BEGIN:VCALENDAR
VERSION:2.0
PRODID:-//Wild Goose Space - ECPv6.15.20//NONSGML v1.0//EN
CALSCALE:GREGORIAN
METHOD:PUBLISH
X-ORIGINAL-URL:https://www.wildgoosespace.org.uk
X-WR-CALDESC:Events for Wild Goose Space
REFRESH-INTERVAL;VALUE=DURATION:PT1H
X-Robots-Tag:noindex
X-PUBLISHED-TTL:PT1H
BEGIN:VTIMEZONE
TZID:UTC
BEGIN:STANDARD
TZOFFSETFROM:+0000
TZOFFSETTO:+0000
TZNAME:UTC
DTSTART:20200101T000000
END:STANDARD
END:VTIMEZONE
BEGIN:VEVENT
DTSTART;TZID=UTC:20211202T130000
DTEND;TZID=UTC:20211202T143000
DTSTAMP:20260426T033651
CREATED:20211125T124722Z
LAST-MODIFIED:20211125T124722Z
UID:10072-1638450000-1638455400@www.wildgoosespace.org.uk
SUMMARY:Photo Shoot
DESCRIPTION:Photo Shoot \nAkilah
URL:https://www.wildgoosespace.org.uk/event/photo-shoot/
END:VEVENT
BEGIN:VEVENT
DTSTART;TZID=UTC:20211203T180000
DTEND;TZID=UTC:20211203T190000
DTSTAMP:20260426T033651
CREATED:20211201T173114Z
LAST-MODIFIED:20211201T173212Z
UID:10110-1638554400-1638558000@www.wildgoosespace.org.uk
SUMMARY:Narinder Private Hire
DESCRIPTION:Narinder Kaur
URL:https://www.wildgoosespace.org.uk/event/narinder-private-hire/
END:VEVENT
BEGIN:VEVENT
DTSTART;TZID=UTC:20211204T110000
DTEND;TZID=UTC:20211204T190000
DTSTAMP:20260426T033651
CREATED:20211126T163644Z
LAST-MODIFIED:20211201T173012Z
UID:10078-1638615600-1638644400@www.wildgoosespace.org.uk
SUMMARY:Narinda Kaur
DESCRIPTION:Narinda Kaur
URL:https://www.wildgoosespace.org.uk/event/narinda-kaur/
END:VEVENT
BEGIN:VEVENT
DTSTART;TZID=UTC:20211210T190000
DTEND;TZID=UTC:20211210T203000
DTSTAMP:20260426T033651
CREATED:20211006T120741Z
LAST-MODIFIED:20211006T120741Z
UID:9891-1639162800-1639168200@www.wildgoosespace.org.uk
SUMMARY:Sound Bath with Rounik
DESCRIPTION:Sound Bath with Rounik
URL:https://www.wildgoosespace.org.uk/event/sound-bath-with-rounik-4/
END:VEVENT
BEGIN:VEVENT
DTSTART;TZID=UTC:20211218T190000
DTEND;TZID=UTC:20211218T210000
DTSTAMP:20260426T033651
CREATED:20210910T151903Z
LAST-MODIFIED:20210910T151903Z
UID:9706-1639854000-1639861200@www.wildgoosespace.org.uk
SUMMARY:Hire With Mila
DESCRIPTION:Hire With Mila
URL:https://www.wildgoosespace.org.uk/event/hire-with-mila-2/
END:VEVENT
BEGIN:VEVENT
DTSTART;TZID=UTC:20211219T093000
DTEND;TZID=UTC:20211219T133000
DTSTAMP:20260426T033651
CREATED:20211118T135434Z
LAST-MODIFIED:20211118T135434Z
UID:10046-1639906200-1639920600@www.wildgoosespace.org.uk
SUMMARY:Solstice Event
DESCRIPTION:Solstice Event \nJo Poyser \njopoyser@yahoo.com
URL:https://www.wildgoosespace.org.uk/event/solstice-event/
END:VEVENT
BEGIN:VEVENT
DTSTART;TZID=UTC:20211219T180000
DTEND;TZID=UTC:20211219T200000
DTSTAMP:20260426T033651
CREATED:20210727T152335Z
LAST-MODIFIED:20210727T152335Z
UID:9412-1639936800-1639944000@www.wildgoosespace.org.uk
SUMMARY:Sam Bloomfield
DESCRIPTION:Sam Bloomfield
URL:https://www.wildgoosespace.org.uk/event/sam-bloomfield-4/
END:VEVENT
BEGIN:VEVENT
DTSTART;TZID=UTC:20211220T180000
DTEND;TZID=UTC:20211220T210000
DTSTAMP:20260426T033651
CREATED:20210729T113204Z
LAST-MODIFIED:20210729T113204Z
UID:9561-1640023200-1640034000@www.wildgoosespace.org.uk
SUMMARY:Leanne McEnvoy 8 Week Course
DESCRIPTION:Leanne McEnvoy 8 Week Course
URL:https://www.wildgoosespace.org.uk/event/leanne-mcenvoy-8-week-course-2/
END:VEVENT
BEGIN:VEVENT
DTSTART;TZID=UTC:20211224T180000
DTEND;TZID=UTC:20211224T210000
DTSTAMP:20260426T033651
CREATED:20211126T161433Z
LAST-MODIFIED:20211126T161433Z
UID:10076-1640368800-1640379600@www.wildgoosespace.org.uk
SUMMARY:Private Hire
DESCRIPTION:Private Hire Lily
URL:https://www.wildgoosespace.org.uk/event/private-hire-110/
END:VEVENT
BEGIN:VEVENT
DTSTART;TZID=UTC:20211225T110000
DTEND;TZID=UTC:20211225T170000
DTSTAMP:20260426T033651
CREATED:20211126T161250Z
LAST-MODIFIED:20211126T161250Z
UID:10074-1640430000-1640451600@www.wildgoosespace.org.uk
SUMMARY:Private Hire
DESCRIPTION:Private Hire Lily.
URL:https://www.wildgoosespace.org.uk/event/private-hire-109/
END:VEVENT
BEGIN:VEVENT
DTSTART;TZID=UTC:20211230T100000
DTEND;TZID=UTC:20211230T220000
DTSTAMP:20260426T033651
CREATED:20211202T113700Z
LAST-MODIFIED:20211202T113700Z
UID:10112-1640858400-1640901600@www.wildgoosespace.org.uk
SUMMARY:Event with Dr. Kam
DESCRIPTION:Event with Dr. Kam
URL:https://www.wildgoosespace.org.uk/event/event-with-dr-kam/
END:VEVENT
BEGIN:VEVENT
DTSTART;TZID=UTC:20211231T150000
DTEND;TZID=UTC:20211231T170000
DTSTAMP:20260426T033651
CREATED:20211223T102112Z
LAST-MODIFIED:20211223T102112Z
UID:10377-1640962800-1640970000@www.wildgoosespace.org.uk
SUMMARY:Event Tortie
DESCRIPTION:Event Tortie
URL:https://www.wildgoosespace.org.uk/event/event-tortie/
END:VEVENT
END:VCALENDAR