BEGIN:VCALENDAR
VERSION:2.0
PRODID:-//Wild Goose Space - ECPv6.15.20//NONSGML v1.0//EN
CALSCALE:GREGORIAN
METHOD:PUBLISH
X-ORIGINAL-URL:https://www.wildgoosespace.org.uk
X-WR-CALDESC:Events for Wild Goose Space
REFRESH-INTERVAL;VALUE=DURATION:PT1H
X-Robots-Tag:noindex
X-PUBLISHED-TTL:PT1H
BEGIN:VTIMEZONE
TZID:UTC
BEGIN:STANDARD
TZOFFSETFROM:+0000
TZOFFSETTO:+0000
TZNAME:UTC
DTSTART:20200101T000000
END:STANDARD
END:VTIMEZONE
BEGIN:VEVENT
DTSTART;TZID=UTC:20211001T193000
DTEND;TZID=UTC:20211001T210000
DTSTAMP:20260426T003626
CREATED:20210920T144626Z
LAST-MODIFIED:20210920T144626Z
UID:9799-1633116600-1633122000@www.wildgoosespace.org.uk
SUMMARY:Rounik Sound Bath
DESCRIPTION:Rounik Sound Bath
URL:https://www.wildgoosespace.org.uk/event/rounik-sound-bath/
END:VEVENT
BEGIN:VEVENT
DTSTART;TZID=UTC:20211002T090000
DTEND;TZID=UTC:20211002T130000
DTSTAMP:20260426T003626
CREATED:20211001T163257Z
LAST-MODIFIED:20211001T163329Z
UID:9885-1633165200-1633179600@www.wildgoosespace.org.uk
SUMMARY:Gemma Private Hire
DESCRIPTION:Gemma Townsend
URL:https://www.wildgoosespace.org.uk/event/gemma-private-hire/
END:VEVENT
BEGIN:VEVENT
DTSTART;TZID=UTC:20211009T100000
DTEND;TZID=UTC:20211009T160000
DTSTAMP:20260426T003626
CREATED:20210906T165139Z
LAST-MODIFIED:20210906T165139Z
UID:9631-1633773600-1633795200@www.wildgoosespace.org.uk
SUMMARY:Anna Grace Jacobs Event
DESCRIPTION:Anna Grace Jacobs Event \n  \n 
URL:https://www.wildgoosespace.org.uk/event/anna-grace-jacobs-event/
END:VEVENT
BEGIN:VEVENT
DTSTART;TZID=UTC:20211015T190000
DTEND;TZID=UTC:20211015T210000
DTSTAMP:20260426T003626
CREATED:20210920T144713Z
LAST-MODIFIED:20211006T120101Z
UID:9801-1634324400-1634331600@www.wildgoosespace.org.uk
SUMMARY:Rounik Sound Bath
DESCRIPTION:Rounik Sound Bath
URL:https://www.wildgoosespace.org.uk/event/rounik-sound-bath-2/
END:VEVENT
BEGIN:VEVENT
DTSTART;TZID=UTC:20211016T093000
DTEND;TZID=UTC:20211016T130000
DTSTAMP:20260426T003626
CREATED:20190821T130654Z
LAST-MODIFIED:20190821T130753Z
UID:7140-1634376600-1634389200@www.wildgoosespace.org.uk
SUMMARY:Caroline Reid Yoga
DESCRIPTION:Monthly Yoga with Caroline Reid.
URL:https://www.wildgoosespace.org.uk/event/caroline-reid-yoga-44/
END:VEVENT
BEGIN:VEVENT
DTSTART;TZID=UTC:20211016T140000
DTEND;TZID=UTC:20211016T170000
DTSTAMP:20260426T003626
CREATED:20210920T125838Z
LAST-MODIFIED:20210920T125838Z
UID:9782-1634392800-1634403600@www.wildgoosespace.org.uk
SUMMARY:Children's Birthday Party
DESCRIPTION:Children’s Birthday Party \n  \nNgaio
URL:https://www.wildgoosespace.org.uk/event/childrens-birthday-party-11/
END:VEVENT
BEGIN:VEVENT
DTSTART;TZID=UTC:20211017T100000
DTEND;TZID=UTC:20211017T120000
DTSTAMP:20260426T003626
CREATED:20210916T155753Z
LAST-MODIFIED:20210916T155753Z
UID:9757-1634464800-1634472000@www.wildgoosespace.org.uk
SUMMARY:Sam Bloomfield
DESCRIPTION:Sam Bloomfield \n  \n 
URL:https://www.wildgoosespace.org.uk/event/sam-bloomfield-5/
END:VEVENT
BEGIN:VEVENT
DTSTART;TZID=UTC:20211020T163000
DTEND;TZID=UTC:20211020T180000
DTSTAMP:20260426T003626
CREATED:20211012T153944Z
LAST-MODIFIED:20211012T153944Z
UID:9905-1634747400-1634752800@www.wildgoosespace.org.uk
SUMMARY:Norma Daykin
DESCRIPTION:Norma Daykin Fit Steps
URL:https://www.wildgoosespace.org.uk/event/norma-daykin-4/
END:VEVENT
BEGIN:VEVENT
DTSTART;TZID=UTC:20211021T111500
DTEND;TZID=UTC:20211021T121500
DTSTAMP:20260426T003626
CREATED:20211014T113059Z
LAST-MODIFIED:20211030T101117Z
UID:9919-1634814900-1634818500@www.wildgoosespace.org.uk
SUMMARY:Yoga Event With Kam
DESCRIPTION:Yoga Event with Kam
URL:https://www.wildgoosespace.org.uk/event/yoga-event-with-kam/
END:VEVENT
BEGIN:VEVENT
DTSTART;TZID=UTC:20211023T193000
DTEND;TZID=UTC:20211023T213000
DTSTAMP:20260426T003626
CREATED:20211008T104015Z
LAST-MODIFIED:20211008T104124Z
UID:9901-1635017400-1635024600@www.wildgoosespace.org.uk
SUMMARY:Sound Bath with Madhava
DESCRIPTION:Sound Bath with Madhava
URL:https://www.wildgoosespace.org.uk/event/sound-bath-with-madhava/
END:VEVENT
BEGIN:VEVENT
DTSTART;TZID=UTC:20211025T193000
DTEND;TZID=UTC:20211025T203000
DTSTAMP:20260426T003626
CREATED:20210821T161814Z
LAST-MODIFIED:20210821T162459Z
UID:9603-1635190200-1635193800@www.wildgoosespace.org.uk
SUMMARY:Nia Practice with Catherine
DESCRIPTION:Nia Practice with Catherine \nNO CLASS THIS WEEK AS IT’S HALF TERM AND THE ROOM IS PRE BOOKED ON THIS EVENING. \nTHANK YOU
URL:https://www.wildgoosespace.org.uk/event/nia-practice-with-cathrine-2021-10-25/
END:VEVENT
BEGIN:VEVENT
DTSTART;TZID=UTC:20211029T190000
DTEND;TZID=UTC:20211029T210000
DTSTAMP:20260426T003626
CREATED:20210925T114244Z
LAST-MODIFIED:20211017T130633Z
UID:9855-1635534000-1635541200@www.wildgoosespace.org.uk
SUMMARY:Sound Bath with Rounik
DESCRIPTION:Sound Bath with Rounik
URL:https://www.wildgoosespace.org.uk/event/sound-bath-with-rounik-2/
END:VEVENT
BEGIN:VEVENT
DTSTART;TZID=UTC:20211030T100000
DTEND;TZID=UTC:20211030T113000
DTSTAMP:20260426T003626
CREATED:20211017T130857Z
LAST-MODIFIED:20211025T145730Z
UID:9932-1635588000-1635593400@www.wildgoosespace.org.uk
SUMMARY:EMC MEETING
DESCRIPTION:EMC Meeting
URL:https://www.wildgoosespace.org.uk/event/emc-meeting-3/
END:VEVENT
BEGIN:VEVENT
DTSTART;TZID=UTC:20211030T143000
DTEND;TZID=UTC:20211030T180000
DTSTAMP:20260426T003626
CREATED:20210913T152225Z
LAST-MODIFIED:20210913T152343Z
UID:9728-1635604200-1635616800@www.wildgoosespace.org.uk
SUMMARY:Children's Birthday party
DESCRIPTION:Children’s Birthday party \nPhillipa Hamilton \npelilford@gmail.com
URL:https://www.wildgoosespace.org.uk/event/childrens-birthday-party-9/
END:VEVENT
BEGIN:VEVENT
DTSTART;TZID=UTC:20211030T190000
DTEND;TZID=UTC:20211030T210000
DTSTAMP:20260426T003626
CREATED:20210910T151621Z
LAST-MODIFIED:20210910T151621Z
UID:9704-1635620400-1635627600@www.wildgoosespace.org.uk
SUMMARY:Hire With Mila
DESCRIPTION:Hire With Mila
URL:https://www.wildgoosespace.org.uk/event/hire-with-mila/
END:VEVENT
END:VCALENDAR