BEGIN:VCALENDAR
VERSION:2.0
PRODID:-//Wild Goose Space - ECPv6.15.20//NONSGML v1.0//EN
CALSCALE:GREGORIAN
METHOD:PUBLISH
X-WR-CALNAME:Wild Goose Space
X-ORIGINAL-URL:https://www.wildgoosespace.org.uk
X-WR-CALDESC:Events for Wild Goose Space
REFRESH-INTERVAL;VALUE=DURATION:PT1H
X-Robots-Tag:noindex
X-PUBLISHED-TTL:PT1H
BEGIN:VTIMEZONE
TZID:UTC
BEGIN:STANDARD
TZOFFSETFROM:+0000
TZOFFSETTO:+0000
TZNAME:UTC
DTSTART:20200101T000000
END:STANDARD
END:VTIMEZONE
BEGIN:VEVENT
DTSTART;TZID=UTC:20210814T183000
DTEND;TZID=UTC:20210814T183000
DTSTAMP:20260425T230918
CREATED:20210813T150431Z
LAST-MODIFIED:20210813T150645Z
UID:9589-1628965800-1628965800@www.wildgoosespace.org.uk
SUMMARY:Private Hire Tortie Rye
DESCRIPTION:Tortie Rye Private Hire
URL:https://www.wildgoosespace.org.uk/event/private-hire-tortie-rye/
END:VEVENT
BEGIN:VEVENT
DTSTART;TZID=UTC:20210821T090000
DTEND;TZID=UTC:20210821T193000
DTSTAMP:20260425T230918
CREATED:20210504T103407Z
LAST-MODIFIED:20210802T160804Z
UID:9013-1629536400-1629574200@www.wildgoosespace.org.uk
SUMMARY:Private Hire
DESCRIPTION:Private Hire – Baby Shower \nAkilah
URL:https://www.wildgoosespace.org.uk/event/private-hire-104/
END:VEVENT
END:VCALENDAR