BEGIN:VCALENDAR
VERSION:2.0
PRODID:-//Wild Goose Space - ECPv6.15.20//NONSGML v1.0//EN
CALSCALE:GREGORIAN
METHOD:PUBLISH
X-ORIGINAL-URL:https://www.wildgoosespace.org.uk
X-WR-CALDESC:Events for Wild Goose Space
REFRESH-INTERVAL;VALUE=DURATION:PT1H
X-Robots-Tag:noindex
X-PUBLISHED-TTL:PT1H
BEGIN:VTIMEZONE
TZID:UTC
BEGIN:STANDARD
TZOFFSETFROM:+0000
TZOFFSETTO:+0000
TZNAME:UTC
DTSTART:20200101T000000
END:STANDARD
END:VTIMEZONE
BEGIN:VEVENT
DTSTART;TZID=UTC:20210502T093000
DTEND;TZID=UTC:20210502T163000
DTSTAMP:20260425T154434
CREATED:20190514T152412Z
LAST-MODIFIED:20190514T152412Z
UID:6525-1619947800-1619973000@www.wildgoosespace.org.uk
SUMMARY:Reclaiming your sacred Ground
DESCRIPTION:Anna Grace Jacobs
URL:https://www.wildgoosespace.org.uk/event/reclaiming-sacred-ground-11/
END:VEVENT
BEGIN:VEVENT
DTSTART;TZID=UTC:20210503T080000
DTEND;TZID=UTC:20210503T170000
DTSTAMP:20260425T154434
CREATED:20210424T150002Z
LAST-MODIFIED:20210424T150002Z
UID:9008-1620028800-1620061200@www.wildgoosespace.org.uk
SUMMARY:Bank Holiday
DESCRIPTION:Bank Holiday
URL:https://www.wildgoosespace.org.uk/event/bank-holiday/
END:VEVENT
BEGIN:VEVENT
DTSTART;TZID=UTC:20210505T100000
DTEND;TZID=UTC:20210505T110000
DTSTAMP:20260425T154434
CREATED:20210504T165950Z
LAST-MODIFIED:20210504T170651Z
UID:9049-1620208800-1620212400@www.wildgoosespace.org.uk
SUMMARY:Mothers and Movers Yoga Support Circle.
DESCRIPTION:Wed 4th to 25th May (4 weeks only)\n10-11am\nMothers and Movers Yoga Support Circle (for older babies on the move and up to 2 years old)\n£40 for the whole block\nNo drop in available but shorter block might be possible if Marinella still has space
URL:https://www.wildgoosespace.org.uk/event/mothers-and-moves-yoga-support-circle/
END:VEVENT
BEGIN:VEVENT
DTSTART;TZID=UTC:20210510T101500
DTEND;TZID=UTC:20210510T111500
DTSTAMP:20260425T154434
CREATED:20210504T153528Z
LAST-MODIFIED:20210504T153528Z
UID:9030-1620641700-1620645300@www.wildgoosespace.org.uk
SUMMARY:DANCE MUMS WITH SVETLANA
DESCRIPTION:DANCE MUMS WITH SVETLANA
URL:https://www.wildgoosespace.org.uk/event/dance-mums-with-svetlana-2/
END:VEVENT
BEGIN:VEVENT
DTSTART;TZID=UTC:20210517T171500
DTEND;TZID=UTC:20210517T180500
DTSTAMP:20260425T154434
CREATED:20210512T121018Z
LAST-MODIFIED:20210512T121018Z
UID:9169-1621271700-1621274700@www.wildgoosespace.org.uk
SUMMARY:Pilates With Paula
DESCRIPTION:Pilates With Paula
URL:https://www.wildgoosespace.org.uk/event/pilates-with-paula-19/
END:VEVENT
BEGIN:VEVENT
DTSTART;TZID=UTC:20210517T181500
DTEND;TZID=UTC:20210517T190500
DTSTAMP:20260425T154434
CREATED:20210512T121135Z
LAST-MODIFIED:20210512T121135Z
UID:9180-1621275300-1621278300@www.wildgoosespace.org.uk
SUMMARY:Pilates With Paula
DESCRIPTION:Pilates With Paula
URL:https://www.wildgoosespace.org.uk/event/pilates-with-paula-20/
END:VEVENT
BEGIN:VEVENT
DTSTART;TZID=UTC:20210518T160000
DTEND;TZID=UTC:20210518T180000
DTSTAMP:20260425T154434
CREATED:20210504T152423Z
LAST-MODIFIED:20210504T152423Z
UID:9015-1621353600-1621360800@www.wildgoosespace.org.uk
SUMMARY:FITSTEPS
DESCRIPTION:FITSTEPS \n  \nTuesdays at 4pm from 18thMayCost: £30 for six weeksFitStepsis a dance exercise programme that combines the dynamic and elegant moves of latinand ballroom dancing in an energetic workout that provides all round fitness benefits.We teach high impact and low impact options so you can adapt the intensity level to suit your needs.Taught by Norma Daykin (UKA Dance\, ISTD\, CIMPSA).Contact: 07786063634. Email: dancelifebristol@gmail.comWebsite:https://dancelifebristol.wordpress.com\n \n  \nTAUGHT BY NORMA DAYKIN………………….. (UKA DANCE\,ISTD.CIMPSA) \nContact    07786 063634 \nEmail       dancelifebristol@gmail.com \nWebsite  https:/dancelifebristol.wordpress.com \n 
URL:https://www.wildgoosespace.org.uk/event/fitsteps/
END:VEVENT
BEGIN:VEVENT
DTSTART;TZID=UTC:20210518T181500
DTEND;TZID=UTC:20210518T194500
DTSTAMP:20260425T154434
CREATED:20210506T163435Z
LAST-MODIFIED:20210524T154622Z
UID:9102-1621361700-1621367100@www.wildgoosespace.org.uk
SUMMARY:Yoga with Sue
DESCRIPTION:Yoga with sue Peggs – – booking essential\, contact admin@suepeggsyoga.co.uk
URL:https://www.wildgoosespace.org.uk/event/yoga-with-sarah-14/
END:VEVENT
BEGIN:VEVENT
DTSTART;TZID=UTC:20210519T130000
DTEND;TZID=UTC:20210519T150000
DTSTAMP:20260425T154434
CREATED:20210510T152321Z
LAST-MODIFIED:20210510T152321Z
UID:9166-1621429200-1621436400@www.wildgoosespace.org.uk
SUMMARY:Ziggy Slingsby Private Hire
DESCRIPTION:Ziggy Slingsby
URL:https://www.wildgoosespace.org.uk/event/ziggy-slingsby-private-hire/
END:VEVENT
BEGIN:VEVENT
DTSTART;TZID=UTC:20210520T200000
DTEND;TZID=UTC:20210520T213000
DTSTAMP:20260425T154434
CREATED:20210507T155736Z
LAST-MODIFIED:20210507T155736Z
UID:9149-1621540800-1621546200@www.wildgoosespace.org.uk
SUMMARY:Private Hire
DESCRIPTION:Private Hire Tortie
URL:https://www.wildgoosespace.org.uk/event/private-hire-105/
END:VEVENT
BEGIN:VEVENT
DTSTART;TZID=UTC:20210522T093000
DTEND;TZID=UTC:20210522T130000
DTSTAMP:20260425T154434
CREATED:20210513T114955Z
LAST-MODIFIED:20210515T143840Z
UID:9222-1621675800-1621688400@www.wildgoosespace.org.uk
SUMMARY:Yoga and Reflective Writing Workshop EVENT 10am to 12.30pm
DESCRIPTION:EVENT RUNS FROM 10AM TO 12.30PM \nSaturday  10am-12.30 ..22nd of May  A kundalini Yoga and Reflective writing workshop \nWe will share a practice of presence through movement\, breath\, stillness and words. \nBooking essential\, cost: £17.00 \nPlease contact lucyspragge@hotmail.com for more info
URL:https://www.wildgoosespace.org.uk/event/yoga-and-reflective-writing-workshop/
END:VEVENT
BEGIN:VEVENT
DTSTART;TZID=UTC:20210523T140000
DTEND;TZID=UTC:20210523T170000
DTSTAMP:20260425T154434
CREATED:20210522T143257Z
LAST-MODIFIED:20210522T143339Z
UID:9234-1621778400-1621789200@www.wildgoosespace.org.uk
SUMMARY:Nadia Adoniizi
DESCRIPTION:Amoreto Flower design Course \n 
URL:https://www.wildgoosespace.org.uk/event/nadia-adoniizi/
END:VEVENT
BEGIN:VEVENT
DTSTART;TZID=UTC:20210523T180000
DTEND;TZID=UTC:20210523T200000
DTSTAMP:20260425T154434
CREATED:20210509T151515Z
LAST-MODIFIED:20210522T143125Z
UID:9155-1621792800-1621800000@www.wildgoosespace.org.uk
SUMMARY:Sam Bloomfield Hire.
DESCRIPTION:Sam Bloomfield Hire.
URL:https://www.wildgoosespace.org.uk/event/sam-bloomfield-hire/
END:VEVENT
BEGIN:VEVENT
DTSTART;TZID=UTC:20210524T155500
DTEND;TZID=UTC:20210524T165500
DTSTAMP:20260425T154434
CREATED:20210524T101016Z
LAST-MODIFIED:20210524T101016Z
UID:9241-1621871700-1621875300@www.wildgoosespace.org.uk
SUMMARY:Claire Louise
DESCRIPTION:Claire Louise
URL:https://www.wildgoosespace.org.uk/event/claire-louise/
END:VEVENT
BEGIN:VEVENT
DTSTART;TZID=UTC:20210524T191500
DTEND;TZID=UTC:20210524T213000
DTSTAMP:20260425T154434
CREATED:20210524T101124Z
LAST-MODIFIED:20210524T101124Z
UID:9243-1621883700-1621891800@www.wildgoosespace.org.uk
SUMMARY:EMC Meeting
DESCRIPTION:EMC Meeting
URL:https://www.wildgoosespace.org.uk/event/emc-meeting/
END:VEVENT
BEGIN:VEVENT
DTSTART;TZID=UTC:20210531T080000
DTEND;TZID=UTC:20210531T170000
DTSTAMP:20260425T154434
CREATED:20210509T152808Z
LAST-MODIFIED:20210509T152808Z
UID:9161-1622448000-1622480400@www.wildgoosespace.org.uk
SUMMARY:BANK HOLIDAY
DESCRIPTION:BANK HOLIDAY
URL:https://www.wildgoosespace.org.uk/event/bank-holiday-2/
END:VEVENT
END:VCALENDAR