BEGIN:VCALENDAR
VERSION:2.0
PRODID:-//Wild Goose Space - ECPv6.15.20//NONSGML v1.0//EN
CALSCALE:GREGORIAN
METHOD:PUBLISH
X-ORIGINAL-URL:https://www.wildgoosespace.org.uk
X-WR-CALDESC:Events for Wild Goose Space
REFRESH-INTERVAL;VALUE=DURATION:PT1H
X-Robots-Tag:noindex
X-PUBLISHED-TTL:PT1H
BEGIN:VTIMEZONE
TZID:UTC
BEGIN:STANDARD
TZOFFSETFROM:+0000
TZOFFSETTO:+0000
TZNAME:UTC
DTSTART:20200101T000000
END:STANDARD
END:VTIMEZONE
BEGIN:VEVENT
DTSTART;TZID=UTC:20210315T110000
DTEND;TZID=UTC:20210315T120000
DTSTAMP:20260425T130408
CREATED:20210311T182635Z
LAST-MODIFIED:20210323T160235Z
UID:8948-1615806000-1615809600@www.wildgoosespace.org.uk
SUMMARY:NCT New Mum's Support Group with Alexandra
DESCRIPTION:NCT New MUM’s Support Group
URL:https://www.wildgoosespace.org.uk/event/nct-new-mums-support-group/
END:VEVENT
BEGIN:VEVENT
DTSTART;TZID=UTC:20210316T100000
DTEND;TZID=UTC:20210316T103000
DTSTAMP:20260425T130408
CREATED:20210309T111738Z
LAST-MODIFIED:20210309T111738Z
UID:8945-1615888800-1615890600@www.wildgoosespace.org.uk
SUMMARY:Nadia Addonizio
DESCRIPTION:Room Viewing
URL:https://www.wildgoosespace.org.uk/event/nadia-addonizio/
END:VEVENT
BEGIN:VEVENT
DTSTART;TZID=UTC:20210320T093000
DTEND;TZID=UTC:20210320T130000
DTSTAMP:20260425T130408
CREATED:20190821T114734Z
LAST-MODIFIED:20190821T114734Z
UID:7132-1616232600-1616245200@www.wildgoosespace.org.uk
SUMMARY:Caroline Reid Yoga
DESCRIPTION:Monthly Yoga with Caroline Reid.
URL:https://www.wildgoosespace.org.uk/event/caroline-reid-yoga-36/
END:VEVENT
BEGIN:VEVENT
DTSTART;TZID=UTC:20210323T080000
DTEND;TZID=UTC:20210323T170000
DTSTAMP:20260425T130408
CREATED:20210323T160338Z
LAST-MODIFIED:20210323T160338Z
UID:8980-1616486400-1616518800@www.wildgoosespace.org.uk
SUMMARY:END OF TERM
DESCRIPTION:END OF TERM
URL:https://www.wildgoosespace.org.uk/event/end-of-term-2/
END:VEVENT
BEGIN:VEVENT
DTSTART;TZID=UTC:20210326T080000
DTEND;TZID=UTC:20210326T170000
DTSTAMP:20260425T130408
CREATED:20210323T160450Z
LAST-MODIFIED:20210323T160450Z
UID:8982-1616745600-1616778000@www.wildgoosespace.org.uk
SUMMARY:END OF TERM
DESCRIPTION:
URL:https://www.wildgoosespace.org.uk/event/end-of-term-3/
END:VEVENT
BEGIN:VEVENT
DTSTART;TZID=UTC:20210327T093000
DTEND;TZID=UTC:20210327T173000
DTSTAMP:20260425T130408
CREATED:20200210T144812Z
LAST-MODIFIED:20200210T144812Z
UID:7889-1616837400-1616866200@www.wildgoosespace.org.uk
SUMMARY:BWY Teacher Training
DESCRIPTION:BWY Teacher Training with \nEve Douglas
URL:https://www.wildgoosespace.org.uk/event/bwy-teacher-training/
END:VEVENT
END:VCALENDAR