BEGIN:VCALENDAR
VERSION:2.0
PRODID:-//Wild Goose Space - ECPv6.15.20//NONSGML v1.0//EN
CALSCALE:GREGORIAN
METHOD:PUBLISH
X-WR-CALNAME:Wild Goose Space
X-ORIGINAL-URL:https://www.wildgoosespace.org.uk
X-WR-CALDESC:Events for Wild Goose Space
REFRESH-INTERVAL;VALUE=DURATION:PT1H
X-Robots-Tag:noindex
X-PUBLISHED-TTL:PT1H
BEGIN:VTIMEZONE
TZID:UTC
BEGIN:STANDARD
TZOFFSETFROM:+0000
TZOFFSETTO:+0000
TZNAME:UTC
DTSTART:20190101T000000
END:STANDARD
END:VTIMEZONE
BEGIN:VEVENT
DTSTART;TZID=UTC:20200703T190000
DTEND;TZID=UTC:20200703T210000
DTSTAMP:20260425T013452
CREATED:20191104T173701Z
LAST-MODIFIED:20191104T173701Z
UID:7458-1593802800-1593810000@www.wildgoosespace.org.uk
SUMMARY:Monthly circle with Marinella
DESCRIPTION:
URL:https://www.wildgoosespace.org.uk/event/monthly-circle-marinella-3/
END:VEVENT
BEGIN:VEVENT
DTSTART;TZID=UTC:20200705T183000
DTEND;TZID=UTC:20200705T210000
DTSTAMP:20260425T013452
CREATED:20190916T121302Z
LAST-MODIFIED:20190916T121302Z
UID:7284-1593973800-1593982800@www.wildgoosespace.org.uk
SUMMARY:Home Birth Group
DESCRIPTION:Home Birth Group with Tortie.
URL:https://www.wildgoosespace.org.uk/event/home-birth-group-15/
END:VEVENT
BEGIN:VEVENT
DTSTART;TZID=UTC:20200710T090000
DTEND;TZID=UTC:20200710T180000
DTSTAMP:20260425T013452
CREATED:20200127T133244Z
LAST-MODIFIED:20200127T133244Z
UID:7855-1594371600-1594404000@www.wildgoosespace.org.uk
SUMMARY:Doula and Midwife Training
DESCRIPTION:Doula and Midwife Training
URL:https://www.wildgoosespace.org.uk/event/doula-midwife-training/
END:VEVENT
BEGIN:VEVENT
DTSTART;TZID=UTC:20200711T090000
DTEND;TZID=UTC:20200712T173000
DTSTAMP:20260425T013452
CREATED:20180625T144147Z
LAST-MODIFIED:20180626T163530Z
UID:4718-1594458000-1594575000@www.wildgoosespace.org.uk
SUMMARY:BWYQ Teacher Training
DESCRIPTION:BWYQ Teacher Training
URL:https://www.wildgoosespace.org.uk/event/bwyq-teacher-training/
END:VEVENT
BEGIN:VEVENT
DTSTART;TZID=UTC:20200716T190000
DTEND;TZID=UTC:20200716T210000
DTSTAMP:20260425T013452
CREATED:20190923T151530Z
LAST-MODIFIED:20190923T152024Z
UID:7349-1594926000-1594933200@www.wildgoosespace.org.uk
SUMMARY:Positive Birth Group
DESCRIPTION:Positive Birth Group With Tortie.
URL:https://www.wildgoosespace.org.uk/event/positive-birth-group-29/
END:VEVENT
BEGIN:VEVENT
DTSTART;TZID=UTC:20200718T100000
DTEND;TZID=UTC:20200718T170000
DTSTAMP:20260425T013452
CREATED:20190207T154604Z
LAST-MODIFIED:20200210T143449Z
UID:6007-1595066400-1595091600@www.wildgoosespace.org.uk
SUMMARY:Eve Douglas Yoga
DESCRIPTION:BWY Foundation Course with Eve \nContact      eve.douglas@hotmail.co.uk \n07814 663674
URL:https://www.wildgoosespace.org.uk/event/yoga-anatomy-course-andrea-3/
END:VEVENT
BEGIN:VEVENT
DTSTART;TZID=UTC:20200719T100000
DTEND;TZID=UTC:20200719T170000
DTSTAMP:20260425T013452
CREATED:20191022T153921Z
LAST-MODIFIED:20191022T153921Z
UID:7412-1595152800-1595178000@www.wildgoosespace.org.uk
SUMMARY:Introduction to Doula workshops
DESCRIPTION:Tortie Rye
URL:https://www.wildgoosespace.org.uk/event/introduction-doula-workshops-2/
END:VEVENT
BEGIN:VEVENT
DTSTART;TZID=UTC:20200724T090000
DTEND;TZID=UTC:20200726T180000
DTSTAMP:20260425T013452
CREATED:20181018T155542Z
LAST-MODIFIED:20181018T155542Z
UID:5400-1595581200-1595786400@www.wildgoosespace.org.uk
SUMMARY:Conscious Embodiment Training
DESCRIPTION:Conscious Embodiment Training \nmatthewappleton@sky.com
URL:https://www.wildgoosespace.org.uk/event/conscious-embodiment-training-4/
END:VEVENT
END:VCALENDAR