BEGIN:VCALENDAR
VERSION:2.0
PRODID:-//Wild Goose Space - ECPv6.15.20//NONSGML v1.0//EN
CALSCALE:GREGORIAN
METHOD:PUBLISH
X-ORIGINAL-URL:https://www.wildgoosespace.org.uk
X-WR-CALDESC:Events for Wild Goose Space
REFRESH-INTERVAL;VALUE=DURATION:PT1H
X-Robots-Tag:noindex
X-PUBLISHED-TTL:PT1H
BEGIN:VTIMEZONE
TZID:UTC
BEGIN:STANDARD
TZOFFSETFROM:+0000
TZOFFSETTO:+0000
TZNAME:UTC
DTSTART:20190101T000000
END:STANDARD
END:VTIMEZONE
BEGIN:VEVENT
DTSTART;TZID=UTC:20200604T184500
DTEND;TZID=UTC:20200604T210000
DTSTAMP:20260425T001000
CREATED:20200131T124352Z
LAST-MODIFIED:20200210T105724Z
UID:7865-1591296300-1591304400@www.wildgoosespace.org.uk
SUMMARY:Yoga With Rachel
DESCRIPTION:Rachel Flemming
URL:https://www.wildgoosespace.org.uk/event/yoga-with-rachel-15-2020-06-04/
END:VEVENT
BEGIN:VEVENT
DTSTART;TZID=UTC:20200605T190000
DTEND;TZID=UTC:20200605T210000
DTSTAMP:20260425T001000
CREATED:20191104T173513Z
LAST-MODIFIED:20191104T173513Z
UID:7456-1591383600-1591390800@www.wildgoosespace.org.uk
SUMMARY:Monthly Circle with Marinella
DESCRIPTION:Marinella Benelli
URL:https://www.wildgoosespace.org.uk/event/monthly-circle-marinella-2/
END:VEVENT
BEGIN:VEVENT
DTSTART;TZID=UTC:20200606T090000
DTEND;TZID=UTC:20200606T170000
DTSTAMP:20260425T001000
CREATED:20190213T182633Z
LAST-MODIFIED:20190820T100128Z
UID:6054-1591434000-1591462800@www.wildgoosespace.org.uk
SUMMARY:Yoga Anatomy Course
DESCRIPTION:Andrea Newman
URL:https://www.wildgoosespace.org.uk/event/bwyq-foundation-course-2/
END:VEVENT
BEGIN:VEVENT
DTSTART;TZID=UTC:20200607T090000
DTEND;TZID=UTC:20200607T180000
DTSTAMP:20260425T001000
CREATED:20200127T171807Z
LAST-MODIFIED:20200127T171807Z
UID:7861-1591520400-1591552800@www.wildgoosespace.org.uk
SUMMARY:Private Hire
DESCRIPTION:Private Hire. \n 
URL:https://www.wildgoosespace.org.uk/event/private-hire-101/
END:VEVENT
BEGIN:VEVENT
DTSTART;TZID=UTC:20200613T090000
DTEND;TZID=UTC:20200614T173000
DTSTAMP:20260425T001000
CREATED:20180606T152421Z
LAST-MODIFIED:20180606T152421Z
UID:4610-1592038800-1592155800@www.wildgoosespace.org.uk
SUMMARY:BWYQ
DESCRIPTION:British Wheel of Yoga Teacher Training. \nWith Eve Douglas \nContact :- eve.yoga@hotmail.co.uk
URL:https://www.wildgoosespace.org.uk/event/bwyq-7/
END:VEVENT
BEGIN:VEVENT
DTSTART;TZID=UTC:20200614T183000
DTEND;TZID=UTC:20200614T210000
DTSTAMP:20260425T001000
CREATED:20190916T111402Z
LAST-MODIFIED:20190916T112344Z
UID:7282-1592159400-1592168400@www.wildgoosespace.org.uk
SUMMARY:Home Birth Group
DESCRIPTION:Home Birth Group
URL:https://www.wildgoosespace.org.uk/event/home-birth-group-14/
END:VEVENT
BEGIN:VEVENT
DTSTART;TZID=UTC:20200618T190000
DTEND;TZID=UTC:20200618T213000
DTSTAMP:20260425T001000
CREATED:20190516T145053Z
LAST-MODIFIED:20190516T145053Z
UID:6532-1592506800-1592515800@www.wildgoosespace.org.uk
SUMMARY:Reclaiming your sacred Ground
DESCRIPTION:Anna Grace Jacobs
URL:https://www.wildgoosespace.org.uk/event/reclaiming-sacred-ground-13/
END:VEVENT
BEGIN:VEVENT
DTSTART;TZID=UTC:20200620T090000
DTEND;TZID=UTC:20200621T173000
DTSTAMP:20260425T001000
CREATED:20190522T134916Z
LAST-MODIFIED:20190522T134916Z
UID:6576-1592643600-1592760600@www.wildgoosespace.org.uk
SUMMARY:TRE Certified Training with Steph
DESCRIPTION:TRE Certified Training Module 2 with Steph Hodgson and Jo Hamilton \nsteph@moving hearts.co.uk
URL:https://www.wildgoosespace.org.uk/event/tre-certified-training-steph/
END:VEVENT
BEGIN:VEVENT
DTSTART;TZID=UTC:20200625T190000
DTEND;TZID=UTC:20200625T210000
DTSTAMP:20260425T001000
CREATED:20190923T151245Z
LAST-MODIFIED:20190923T151315Z
UID:7347-1593111600-1593118800@www.wildgoosespace.org.uk
SUMMARY:Positive Birth Group
DESCRIPTION:Positive Birth Group With Tortie.
URL:https://www.wildgoosespace.org.uk/event/positive-birth-group-28/
END:VEVENT
BEGIN:VEVENT
DTSTART;TZID=UTC:20200627T090000
DTEND;TZID=UTC:20200627T133000
DTSTAMP:20260425T001000
CREATED:20180605T165840Z
LAST-MODIFIED:20180605T165840Z
UID:4595-1593248400-1593264600@www.wildgoosespace.org.uk
SUMMARY:Caroline Reid Yoga
DESCRIPTION:Caroline Reid Yoga. \nTeaching scaravelli influenced yoga since 2002. \nContact Caroline \ncaroline@carolinereidyoga.com \n07570 507494 \nEvery Month Saturdays at Wildgoose Space
URL:https://www.wildgoosespace.org.uk/event/caroline-reid-yoga-37/
END:VEVENT
BEGIN:VEVENT
DTSTART;TZID=UTC:20200627T160000
DTEND;TZID=UTC:20200627T220000
DTSTAMP:20260425T001000
CREATED:20200113T182016Z
LAST-MODIFIED:20200113T182016Z
UID:7777-1593273600-1593295200@www.wildgoosespace.org.uk
SUMMARY:Private Event
DESCRIPTION:Gary Seabrook
URL:https://www.wildgoosespace.org.uk/event/private-event/
END:VEVENT
BEGIN:VEVENT
DTSTART;TZID=UTC:20200628T100000
DTEND;TZID=UTC:20200628T170000
DTSTAMP:20260425T001000
CREATED:20190821T104858Z
LAST-MODIFIED:20190821T105412Z
UID:7106-1593338400-1593363600@www.wildgoosespace.org.uk
SUMMARY:Anna Rose Reiki
DESCRIPTION:Reiki Event day with Anna Rose \n  \nContact                 learnreiki@hotmail.com
URL:https://www.wildgoosespace.org.uk/event/anna-rose-reiki/
END:VEVENT
END:VCALENDAR