BEGIN:VCALENDAR
VERSION:2.0
PRODID:-//Wild Goose Space - ECPv6.15.20//NONSGML v1.0//EN
CALSCALE:GREGORIAN
METHOD:PUBLISH
X-ORIGINAL-URL:https://www.wildgoosespace.org.uk
X-WR-CALDESC:Events for Wild Goose Space
REFRESH-INTERVAL;VALUE=DURATION:PT1H
X-Robots-Tag:noindex
X-PUBLISHED-TTL:PT1H
BEGIN:VTIMEZONE
TZID:UTC
BEGIN:STANDARD
TZOFFSETFROM:+0000
TZOFFSETTO:+0000
TZNAME:UTC
DTSTART:20190101T000000
END:STANDARD
END:VTIMEZONE
BEGIN:VEVENT
DTSTART;TZID=UTC:20200502T093000
DTEND;TZID=UTC:20200502T163000
DTSTAMP:20260424T224417
CREATED:20190514T152855Z
LAST-MODIFIED:20190514T152855Z
UID:6527-1588411800-1588437000@www.wildgoosespace.org.uk
SUMMARY:RECLAIMING YOUR SACRED GROUND
DESCRIPTION:Anna Grace Jacobs
URL:https://www.wildgoosespace.org.uk/event/reclaiming-sacred-ground-12/
END:VEVENT
BEGIN:VEVENT
DTSTART;TZID=UTC:20200503T093000
DTEND;TZID=UTC:20200503T133000
DTSTAMP:20260424T224417
CREATED:20200121T103613Z
LAST-MODIFIED:20200121T103613Z
UID:7836-1588498200-1588512600@www.wildgoosespace.org.uk
SUMMARY:Lena Deruka
DESCRIPTION:Lena Deruka Private Hire
URL:https://www.wildgoosespace.org.uk/event/lena-deruka/
END:VEVENT
BEGIN:VEVENT
DTSTART;TZID=UTC:20200509T080000
DTEND;TZID=UTC:20200509T170000
DTSTAMP:20260424T224417
CREATED:20190207T151405Z
LAST-MODIFIED:20190207T151405Z
UID:5997-1589011200-1589043600@www.wildgoosespace.org.uk
SUMMARY:Advance Teacher Training with Andrea
DESCRIPTION:Advanced Teacher Training with Andrea Newman
URL:https://www.wildgoosespace.org.uk/event/advance-teacher-training-andrea/
END:VEVENT
BEGIN:VEVENT
DTSTART;TZID=UTC:20200510T183000
DTEND;TZID=UTC:20200510T210000
DTSTAMP:20260424T224417
CREATED:20190916T111037Z
LAST-MODIFIED:20190916T111037Z
UID:7280-1589135400-1589144400@www.wildgoosespace.org.uk
SUMMARY:Home Birth Group
DESCRIPTION:Home Birth Group with Tortie.
URL:https://www.wildgoosespace.org.uk/event/home-birth-group-13/
END:VEVENT
BEGIN:VEVENT
DTSTART;TZID=UTC:20200515T190000
DTEND;TZID=UTC:20200515T210000
DTSTAMP:20260424T224417
CREATED:20191104T173220Z
LAST-MODIFIED:20191202T120109Z
UID:7454-1589569200-1589576400@www.wildgoosespace.org.uk
SUMMARY:Monthly Circle with Marinella
DESCRIPTION:Marinella Benelli
URL:https://www.wildgoosespace.org.uk/event/monthly-circle-marinella/
END:VEVENT
BEGIN:VEVENT
DTSTART;TZID=UTC:20200516T093000
DTEND;TZID=UTC:20200516T130000
DTSTAMP:20260424T224417
CREATED:20181018T155207Z
LAST-MODIFIED:20181018T155207Z
UID:5398-1589621400-1589634000@www.wildgoosespace.org.uk
SUMMARY:Caroline Reid Yoga
DESCRIPTION:Caroline Reid Yoga. \nTeaching scaravelli influenced yoga since 2002. \nContact Caroline \ncaroline@carolinereidyoga.com \n07570 507494 \nEvery Month Saturdays at Wildgoose Space
URL:https://www.wildgoosespace.org.uk/event/caroline-reid-yoga-18/
END:VEVENT
BEGIN:VEVENT
DTSTART;TZID=UTC:20200517T100000
DTEND;TZID=UTC:20200517T160000
DTSTAMP:20260424T224417
CREATED:20200121T151308Z
LAST-MODIFIED:20200121T151308Z
UID:7838-1589709600-1589731200@www.wildgoosespace.org.uk
SUMMARY:Opening to the Beloved
DESCRIPTION:Opening to the Beloved \nAnna Grace Jacobs
URL:https://www.wildgoosespace.org.uk/event/opening-to-the-beloved-20/
END:VEVENT
BEGIN:VEVENT
DTSTART;TZID=UTC:20200517T180000
DTEND;TZID=UTC:20200517T210000
DTSTAMP:20260424T224417
CREATED:20190822T125531Z
LAST-MODIFIED:20190903T095211Z
UID:7157-1589738400-1589749200@www.wildgoosespace.org.uk
SUMMARY:Exploring constellations
DESCRIPTION:Exploring Constellations \nDeborah Ward
URL:https://www.wildgoosespace.org.uk/event/wild-woman-story-telling-3/
END:VEVENT
BEGIN:VEVENT
DTSTART;TZID=UTC:20200521T190000
DTEND;TZID=UTC:20200521T213000
DTSTAMP:20260424T224417
CREATED:20190509T105727Z
LAST-MODIFIED:20190509T105727Z
UID:6510-1590087600-1590096600@www.wildgoosespace.org.uk
SUMMARY:Reclaiming Your Sacred Ground
DESCRIPTION:Anna Grace Jacobs \nannaplay@hotmail.co.uk \nwww.annagracejacobs.com \n07809 886710
URL:https://www.wildgoosespace.org.uk/event/reclaiming-sacred-ground-9/
END:VEVENT
BEGIN:VEVENT
DTSTART;TZID=UTC:20200522T090000
DTEND;TZID=UTC:20200524T180000
DTSTAMP:20260424T224417
CREATED:20181018T154809Z
LAST-MODIFIED:20181018T154809Z
UID:5396-1590138000-1590343200@www.wildgoosespace.org.uk
SUMMARY:Conscious Embodiment Training
DESCRIPTION:Conscious Embodiment Training \nmatthewappleton@sky.com
URL:https://www.wildgoosespace.org.uk/event/conscious-embodiment-training-3/
END:VEVENT
BEGIN:VEVENT
DTSTART;TZID=UTC:20200524T190000
DTEND;TZID=UTC:20200524T210000
DTSTAMP:20260424T224417
CREATED:20190923T151101Z
LAST-MODIFIED:20190923T151101Z
UID:7345-1590346800-1590354000@www.wildgoosespace.org.uk
SUMMARY:Positive Birth Group
DESCRIPTION:Positive Birth Group With Tortie.
URL:https://www.wildgoosespace.org.uk/event/positive-birth-group-27/
END:VEVENT
BEGIN:VEVENT
DTSTART;TZID=UTC:20200525T080000
DTEND;TZID=UTC:20200529T090000
DTSTAMP:20260424T224417
CREATED:20200310T173754Z
LAST-MODIFIED:20200310T173754Z
UID:8209-1590393600-1590742800@www.wildgoosespace.org.uk
SUMMARY:Half Term
DESCRIPTION:
URL:https://www.wildgoosespace.org.uk/event/half-term-8/
END:VEVENT
BEGIN:VEVENT
DTSTART;TZID=UTC:20200530T100000
DTEND;TZID=UTC:20200530T170000
DTSTAMP:20260424T224417
CREATED:20190207T154415Z
LAST-MODIFIED:20190207T154415Z
UID:6005-1590832800-1590858000@www.wildgoosespace.org.uk
SUMMARY:Yoga Anatomy Course with Andrea
DESCRIPTION:Yoga Anatomy Course with Andrea Newman.
URL:https://www.wildgoosespace.org.uk/event/yoga-anatomy-course-andrea-2/
END:VEVENT
END:VCALENDAR