BEGIN:VCALENDAR
VERSION:2.0
PRODID:-//Wild Goose Space - ECPv6.15.20//NONSGML v1.0//EN
CALSCALE:GREGORIAN
METHOD:PUBLISH
X-WR-CALNAME:Wild Goose Space
X-ORIGINAL-URL:https://www.wildgoosespace.org.uk
X-WR-CALDESC:Events for Wild Goose Space
REFRESH-INTERVAL;VALUE=DURATION:PT1H
X-Robots-Tag:noindex
X-PUBLISHED-TTL:PT1H
BEGIN:VTIMEZONE
TZID:UTC
BEGIN:STANDARD
TZOFFSETFROM:+0000
TZOFFSETTO:+0000
TZNAME:UTC
DTSTART:20180101T000000
END:STANDARD
END:VTIMEZONE
BEGIN:VEVENT
DTSTART;TZID=UTC:20191205T190000
DTEND;TZID=UTC:20191205T213000
DTSTAMP:20260424T142111
CREATED:20190509T102620Z
LAST-MODIFIED:20190509T102620Z
UID:6498-1575572400-1575581400@www.wildgoosespace.org.uk
SUMMARY:Reclaiming Your Sacred Ground
DESCRIPTION:Anna Grace Jacobs \nannaplay@hotmail.co.uk \nwww.annagracejacobs.com \n07809 886710
URL:https://www.wildgoosespace.org.uk/event/reclaiming-sacred-ground-3/
END:VEVENT
BEGIN:VEVENT
DTSTART;TZID=UTC:20191206T190000
DTEND;TZID=UTC:20191206T210000
DTSTAMP:20260424T142111
CREATED:20190320T173030Z
LAST-MODIFIED:20190320T173030Z
UID:6183-1575658800-1575666000@www.wildgoosespace.org.uk
SUMMARY:WOMAN’S YOGA WITH MARINELLA
DESCRIPTION:Marinella
URL:https://www.wildgoosespace.org.uk/event/womans-yoga-marinella-3/
END:VEVENT
BEGIN:VEVENT
DTSTART;TZID=UTC:20191207T100000
DTEND;TZID=UTC:20191208T180000
DTSTAMP:20260424T142111
CREATED:20190412T173249Z
LAST-MODIFIED:20190412T173249Z
UID:6427-1575712800-1575828000@www.wildgoosespace.org.uk
SUMMARY:Private Hire
DESCRIPTION:Christie Dehoux \nchristiede@hotmail.com
URL:https://www.wildgoosespace.org.uk/event/private-hire-80/
END:VEVENT
BEGIN:VEVENT
DTSTART;TZID=UTC:20191213T190000
DTEND;TZID=UTC:20191213T210000
DTSTAMP:20260424T142111
CREATED:20191208T155603Z
LAST-MODIFIED:20191208T155603Z
UID:7493-1576263600-1576270800@www.wildgoosespace.org.uk
SUMMARY:Positive Birth Group
DESCRIPTION:Positive Birth Group
URL:https://www.wildgoosespace.org.uk/event/positive-birth-group-35/
END:VEVENT
BEGIN:VEVENT
DTSTART;TZID=UTC:20191215T093000
DTEND;TZID=UTC:20191215T123000
DTSTAMP:20260424T142111
CREATED:20191116T113002Z
LAST-MODIFIED:20191116T113002Z
UID:7469-1576402200-1576413000@www.wildgoosespace.org.uk
SUMMARY:Children's Party
DESCRIPTION:Penny
URL:https://www.wildgoosespace.org.uk/event/childrens-party-21/
END:VEVENT
BEGIN:VEVENT
DTSTART;TZID=UTC:20191215T140000
DTEND;TZID=UTC:20191215T160000
DTSTAMP:20260424T142111
CREATED:20191024T105329Z
LAST-MODIFIED:20191024T105329Z
UID:7417-1576418400-1576425600@www.wildgoosespace.org.uk
SUMMARY:Rachel Flemming
DESCRIPTION:Rachel
URL:https://www.wildgoosespace.org.uk/event/rachel-flemming/
END:VEVENT
BEGIN:VEVENT
DTSTART;TZID=UTC:20191215T190000
DTEND;TZID=UTC:20191215T210000
DTSTAMP:20260424T142111
CREATED:20190117T100557Z
LAST-MODIFIED:20190117T100557Z
UID:5884-1576436400-1576443600@www.wildgoosespace.org.uk
SUMMARY:Positive Birth group
DESCRIPTION:Positive Birth Group with Tortie Rye
URL:https://www.wildgoosespace.org.uk/event/positive-birth-group-21/
END:VEVENT
BEGIN:VEVENT
DTSTART;TZID=UTC:20191219T190000
DTEND;TZID=UTC:20191219T210000
DTSTAMP:20260424T142111
CREATED:20191203T122836Z
LAST-MODIFIED:20191203T122836Z
UID:7485-1576782000-1576789200@www.wildgoosespace.org.uk
SUMMARY:Positive Birth Group
DESCRIPTION:Positive Birth Group with Tortie
URL:https://www.wildgoosespace.org.uk/event/positive-birth-group-23/
END:VEVENT
BEGIN:VEVENT
DTSTART;TZID=UTC:20191220T150000
DTEND;TZID=UTC:20191220T190000
DTSTAMP:20260424T142111
CREATED:20191128T150051Z
LAST-MODIFIED:20191128T150245Z
UID:7475-1576854000-1576868400@www.wildgoosespace.org.uk
SUMMARY:Many Minds Xmas Event
DESCRIPTION:Many Minds Charity \nOlivia Ware and Vicki Brown.
URL:https://www.wildgoosespace.org.uk/event/maany-minds-xmas-event/
END:VEVENT
BEGIN:VEVENT
DTSTART;TZID=UTC:20191221T180000
DTEND;TZID=UTC:20191221T200000
DTSTAMP:20260424T142111
CREATED:20191220T125534Z
LAST-MODIFIED:20191220T125534Z
UID:7575-1576951200-1576958400@www.wildgoosespace.org.uk
SUMMARY:Private Hire
DESCRIPTION:Eva Lopez
URL:https://www.wildgoosespace.org.uk/event/private-hire-98/
END:VEVENT
END:VCALENDAR