BEGIN:VCALENDAR
VERSION:2.0
PRODID:-//Wild Goose Space - ECPv6.15.20//NONSGML v1.0//EN
CALSCALE:GREGORIAN
METHOD:PUBLISH
X-WR-CALNAME:Wild Goose Space
X-ORIGINAL-URL:https://www.wildgoosespace.org.uk
X-WR-CALDESC:Events for Wild Goose Space
REFRESH-INTERVAL;VALUE=DURATION:PT1H
X-Robots-Tag:noindex
X-PUBLISHED-TTL:PT1H
BEGIN:VTIMEZONE
TZID:UTC
BEGIN:STANDARD
TZOFFSETFROM:+0000
TZOFFSETTO:+0000
TZNAME:UTC
DTSTART:20180101T000000
END:STANDARD
END:VTIMEZONE
BEGIN:VEVENT
DTSTART;TZID=UTC:20191004T190000
DTEND;TZID=UTC:20191004T210000
DTSTAMP:20260424T113325
CREATED:20190320T172234Z
LAST-MODIFIED:20190320T172433Z
UID:6177-1570215600-1570222800@www.wildgoosespace.org.uk
SUMMARY:Woman's Yoga with Marinella
DESCRIPTION:Marinella
URL:https://www.wildgoosespace.org.uk/event/womans-yoga-marinella/
END:VEVENT
BEGIN:VEVENT
DTSTART;TZID=UTC:20191005T090000
DTEND;TZID=UTC:20191006T170000
DTSTAMP:20260424T113325
CREATED:20180922T103138Z
LAST-MODIFIED:20180922T103733Z
UID:5292-1570266000-1570381200@www.wildgoosespace.org.uk
SUMMARY:TRE Certified Training Module 3
DESCRIPTION:TRE Certified Training Module 1 with Steph Hodgson and Jo Hamilton \nsteph@moving hearts.co.uk
URL:https://www.wildgoosespace.org.uk/event/tre-certified-training-module-1/
END:VEVENT
BEGIN:VEVENT
DTSTART;TZID=UTC:20191006T180000
DTEND;TZID=UTC:20191006T210000
DTSTAMP:20260424T113325
CREATED:20190822T122751Z
LAST-MODIFIED:20190902T134313Z
UID:7147-1570384800-1570395600@www.wildgoosespace.org.uk
SUMMARY:Exploring constellations
DESCRIPTION:Exploring Constellations \nDeborah Ward.
URL:https://www.wildgoosespace.org.uk/event/wild-women-story-telling/
END:VEVENT
BEGIN:VEVENT
DTSTART;TZID=UTC:20191007T114500
DTEND;TZID=UTC:20191007T123000
DTSTAMP:20260424T113325
CREATED:20190919T165320Z
LAST-MODIFIED:20190919T165320Z
UID:7309-1570448700-1570451400@www.wildgoosespace.org.uk
SUMMARY:DANCE MUMS WITH OLDER TODDLERS
DESCRIPTION:Svetlana
URL:https://www.wildgoosespace.org.uk/event/dance-mums-older-toddlers-2/
END:VEVENT
BEGIN:VEVENT
DTSTART;TZID=UTC:20191007T193000
DTEND;TZID=UTC:20191007T213000
DTSTAMP:20260424T113325
CREATED:20190813T122409Z
LAST-MODIFIED:20190813T122409Z
UID:7041-1570476600-1570483800@www.wildgoosespace.org.uk
SUMMARY:Georgian Choir
DESCRIPTION:Georgian Choir  with Anthony Johnson. \nEvery Monday evening 7.30pm to 9.30pm during Term time. \nContact Anthony 07950 052100
URL:https://www.wildgoosespace.org.uk/event/georgian-choir-10/
END:VEVENT
BEGIN:VEVENT
DTSTART;TZID=UTC:20191011T190000
DTEND;TZID=UTC:20191011T203000
DTSTAMP:20260424T113325
CREATED:20190827T101325Z
LAST-MODIFIED:20190827T101325Z
UID:7172-1570820400-1570825800@www.wildgoosespace.org.uk
SUMMARY:Jongar
DESCRIPTION:Jongdar \n  \nAnita Cheung
URL:https://www.wildgoosespace.org.uk/event/jongar/
END:VEVENT
BEGIN:VEVENT
DTSTART;TZID=UTC:20191012T090000
DTEND;TZID=UTC:20191013T173000
DTSTAMP:20260424T113325
CREATED:20170905T163533Z
LAST-MODIFIED:20170905T163533Z
UID:2968-1570870800-1570987800@www.wildgoosespace.org.uk
SUMMARY:BWYQ
DESCRIPTION:British Wheel of Yoga Teacher Training. \nWith Eve Douglas \nContact :- eve.yoga@hotmail.co.uk
URL:https://www.wildgoosespace.org.uk/event/bwyq-13/
END:VEVENT
BEGIN:VEVENT
DTSTART;TZID=UTC:20191013T183000
DTEND;TZID=UTC:20191013T210000
DTSTAMP:20260424T113325
CREATED:20190731T094125Z
LAST-MODIFIED:20190731T094125Z
UID:7028-1570991400-1571000400@www.wildgoosespace.org.uk
SUMMARY:HOME BIRTH GROUP
DESCRIPTION:Home Birth Group
URL:https://www.wildgoosespace.org.uk/event/home-birth-group-9/
END:VEVENT
BEGIN:VEVENT
DTSTART;TZID=UTC:20191014T193000
DTEND;TZID=UTC:20191014T213000
DTSTAMP:20260424T113325
CREATED:20190727T114242Z
LAST-MODIFIED:20190727T114242Z
UID:6805-1571081400-1571088600@www.wildgoosespace.org.uk
SUMMARY:Georgian Choir
DESCRIPTION:Georgian Choir  with Anthony Johnson. \nEvery Monday evening 7.30pm to 9.30pm during Term time. \nContact Anthony 07950 052100
URL:https://www.wildgoosespace.org.uk/event/georgian-choir-9/
END:VEVENT
BEGIN:VEVENT
DTSTART;TZID=UTC:20191018T090000
DTEND;TZID=UTC:20191020T180000
DTSTAMP:20260424T113325
CREATED:20181018T154023Z
LAST-MODIFIED:20181018T154023Z
UID:5391-1571389200-1571594400@www.wildgoosespace.org.uk
SUMMARY:Conscious Embodiment Training
DESCRIPTION:Conscious Embodiment Training \n  \nMathew Appleton \nmatthewappleton@sky.com
URL:https://www.wildgoosespace.org.uk/event/conscious-embodiment-training/
END:VEVENT
BEGIN:VEVENT
DTSTART;TZID=UTC:20191023T153000
DTEND;TZID=UTC:20191023T173000
DTSTAMP:20260424T113325
CREATED:20190131T145613Z
LAST-MODIFIED:20190903T123807Z
UID:6432-1571844600-1571851800@www.wildgoosespace.org.uk
SUMMARY:Shiatsu - Paul McNicholls
DESCRIPTION:Shiatsu – Paul McNicholls \nContact     paul@shiatsutherapy.org.uk
URL:https://www.wildgoosespace.org.uk/event/shiatsu-paul-mcnicholls-16-2019-10-23/
END:VEVENT
BEGIN:VEVENT
DTSTART;TZID=UTC:20191023T153000
DTEND;TZID=UTC:20191023T173000
DTSTAMP:20260424T113325
CREATED:20190203T121047Z
LAST-MODIFIED:20190203T121047Z
UID:5955-1571844600-1571851800@www.wildgoosespace.org.uk
SUMMARY:Shiatsu -Paul McNicholls
DESCRIPTION:Shiatsu – Paul McNicholls \nContact     paul@shiatsutherapy.org.uk
URL:https://www.wildgoosespace.org.uk/event/shiatsu-paul-mcnicholls-22/
END:VEVENT
BEGIN:VEVENT
DTSTART;TZID=UTC:20191024T190000
DTEND;TZID=UTC:20191024T210000
DTSTAMP:20260424T113325
CREATED:20190116T120732Z
LAST-MODIFIED:20190116T120732Z
UID:5878-1571943600-1571950800@www.wildgoosespace.org.uk
SUMMARY:Positive Birth Group
DESCRIPTION:Positive Birth Group \nWith Tortie Rye
URL:https://www.wildgoosespace.org.uk/event/positive-birth-group-19/
END:VEVENT
BEGIN:VEVENT
DTSTART;TZID=UTC:20191025T093000
DTEND;TZID=UTC:20191025T223000
DTSTAMP:20260424T113325
CREATED:20191016T161630Z
LAST-MODIFIED:20191016T161630Z
UID:7403-1571995800-1572042600@www.wildgoosespace.org.uk
SUMMARY:UWE Tour
DESCRIPTION:UWE Tour With Anna
URL:https://www.wildgoosespace.org.uk/event/uwe-tour/
END:VEVENT
BEGIN:VEVENT
DTSTART;TZID=UTC:20191025T160000
DTEND;TZID=UTC:20191025T173000
DTSTAMP:20260424T113325
CREATED:20190923T154824Z
LAST-MODIFIED:20190923T154824Z
UID:7363-1572019200-1572024600@www.wildgoosespace.org.uk
SUMMARY:Sarah Woolf Hire
DESCRIPTION:Sarah Woolf
URL:https://www.wildgoosespace.org.uk/event/sarah-woolf-hire/
END:VEVENT
BEGIN:VEVENT
DTSTART;TZID=UTC:20191026T080000
DTEND;TZID=UTC:20191026T170000
DTSTAMP:20260424T113325
CREATED:20170708T132135Z
LAST-MODIFIED:20170708T132135Z
UID:2614-1572076800-1572109200@www.wildgoosespace.org.uk
SUMMARY:Caroline Reid Yoga
DESCRIPTION:Caroline Reid Yoga \nContact Caroline \ncarolinereidyoga.com \n07570 507494 \n 
URL:https://www.wildgoosespace.org.uk/event/caroline-reid-yoga-30/
END:VEVENT
BEGIN:VEVENT
DTSTART;TZID=UTC:20191027T093000
DTEND;TZID=UTC:20191027T163000
DTSTAMP:20260424T113326
CREATED:20190305T130448Z
LAST-MODIFIED:20190913T132517Z
UID:6114-1572168600-1572193800@www.wildgoosespace.org.uk
SUMMARY:Imaganitive Water Colour Workshop with Emma Burleigh
DESCRIPTION:10.30 – 4 pm \n\n\n\n\n\n\nUnlock your creativity! Join award winning artist and qualified teacher\, Emma Burleigh\, for a day of exploration and playful painting. \n \nDelight in ‘wonderful failures and terrible successes!’\n \nFind new ways to loosen up with the exquisite medium of watercolour through fun and supportive exercises.\n \nNo need to have any experience\, ‘talent’ or imaginative ideas on arrival…relax in a safe and non judgemental environment.\n \nDevelop confidence to paint more expressively and intuitively.\n \nGive yourself permission to enjoy the unexpected\, to have fun and to make ‘mistakes’. \n \nLearn or refresh your watercolour skills with guidance on how to paint washes\, wet in wet\, and glazes.\n \nFeel supported to try out fresh and imaginative ways to express your memories\, moods\, dreams and ideas in this luminous medium.\n \n\n\n\n\nSuitable for beginners and more experienced artists looking for fresh approaches to their painting practice.\n \n£60 (or £50 supported rate). All art materials and tea included.\n\n \n\n\n\n\n\n\n\nFor more info and to book a place on this workshop please email Emma at emmaburleigh1977@yahoo.co.uk.\n \nFor more info about Emma visit her website www.emmaburleigh.com.
URL:https://www.wildgoosespace.org.uk/event/water-colours-emma/
END:VEVENT
BEGIN:VEVENT
DTSTART;TZID=UTC:20191027T190000
DTEND;TZID=UTC:20191027T210000
DTSTAMP:20260424T113326
CREATED:20191022T141130Z
LAST-MODIFIED:20191022T141130Z
UID:7407-1572202800-1572210000@www.wildgoosespace.org.uk
SUMMARY:TRE Event
DESCRIPTION:Linda Johnson
URL:https://www.wildgoosespace.org.uk/event/tre-event-38/
END:VEVENT
BEGIN:VEVENT
DTSTART;TZID=UTC:20191028T080000
DTEND;TZID=UTC:20191028T170000
DTSTAMP:20260424T113326
CREATED:20190727T113817Z
LAST-MODIFIED:20190727T113817Z
UID:6803-1572249600-1572282000@www.wildgoosespace.org.uk
SUMMARY:Half Term
DESCRIPTION:One week from 28.10.19 to 4.11.19
URL:https://www.wildgoosespace.org.uk/event/half-term-7/
END:VEVENT
END:VCALENDAR