BEGIN:VCALENDAR
VERSION:2.0
PRODID:-//Wild Goose Space - ECPv6.15.20//NONSGML v1.0//EN
CALSCALE:GREGORIAN
METHOD:PUBLISH
X-WR-CALNAME:Wild Goose Space
X-ORIGINAL-URL:https://www.wildgoosespace.org.uk
X-WR-CALDESC:Events for Wild Goose Space
REFRESH-INTERVAL;VALUE=DURATION:PT1H
X-Robots-Tag:noindex
X-PUBLISHED-TTL:PT1H
BEGIN:VTIMEZONE
TZID:UTC
BEGIN:STANDARD
TZOFFSETFROM:+0000
TZOFFSETTO:+0000
TZNAME:UTC
DTSTART:20180101T000000
END:STANDARD
END:VTIMEZONE
BEGIN:VEVENT
DTSTART;TZID=UTC:20190706T090000
DTEND;TZID=UTC:20190707T173000
DTSTAMP:20260424T074306
CREATED:20170905T163337Z
LAST-MODIFIED:20170905T163337Z
UID:2964-1562403600-1562520600@www.wildgoosespace.org.uk
SUMMARY:BWYQ
DESCRIPTION:British Wheel of Yoga Teacher Training. \nWith Eve Douglas \nContact :- eve.yoga@hotmail.co.uk
URL:https://www.wildgoosespace.org.uk/event/bwyq-11/
END:VEVENT
BEGIN:VEVENT
DTSTART;TZID=UTC:20190706T190000
DTEND;TZID=UTC:20190706T220000
DTSTAMP:20260424T074306
CREATED:20190603T093227Z
LAST-MODIFIED:20190603T093227Z
UID:6614-1562439600-1562450400@www.wildgoosespace.org.uk
SUMMARY:Right to Roam
DESCRIPTION:Sarah Riley \nRight to Roam
URL:https://www.wildgoosespace.org.uk/event/right-to-roam/
END:VEVENT
BEGIN:VEVENT
DTSTART;TZID=UTC:20190712T190000
DTEND;TZID=UTC:20190712T210000
DTSTAMP:20260424T074306
CREATED:20190620T111753Z
LAST-MODIFIED:20190620T111753Z
UID:6654-1562958000-1562965200@www.wildgoosespace.org.uk
SUMMARY:Marinella
DESCRIPTION:Marinella Benelli \nMonthly Yoga care.
URL:https://www.wildgoosespace.org.uk/event/marinella/
END:VEVENT
BEGIN:VEVENT
DTSTART;TZID=UTC:20190713T160000
DTEND;TZID=UTC:20190713T230000
DTSTAMP:20260424T074306
CREATED:20190605T205153Z
LAST-MODIFIED:20190613T144506Z
UID:6625-1563033600-1563058800@www.wildgoosespace.org.uk
SUMMARY:Event by G. Seabrook
DESCRIPTION:Event by G. Seabrook
URL:https://www.wildgoosespace.org.uk/event/private-hire-94/
END:VEVENT
BEGIN:VEVENT
DTSTART;TZID=UTC:20190718T190000
DTEND;TZID=UTC:20190718T210000
DTSTAMP:20260424T074306
CREATED:20190114T132922Z
LAST-MODIFIED:20190114T132922Z
UID:5867-1563476400-1563483600@www.wildgoosespace.org.uk
SUMMARY:Positive Birth Group
DESCRIPTION:Postive Birth Group with Tortie Rye
URL:https://www.wildgoosespace.org.uk/event/positive-birth-group-16/
END:VEVENT
BEGIN:VEVENT
DTSTART;TZID=UTC:20190719T190000
DTEND;TZID=UTC:20190719T210000
DTSTAMP:20260424T074306
CREATED:20190109T095055Z
LAST-MODIFIED:20190109T095055Z
UID:5790-1563562800-1563570000@www.wildgoosespace.org.uk
SUMMARY:Monthly Yoga and Self Care for Women
DESCRIPTION:Marinella
URL:https://www.wildgoosespace.org.uk/event/monthly-yoga-self-care-women-2/
END:VEVENT
BEGIN:VEVENT
DTSTART;TZID=UTC:20190720T090000
DTEND;TZID=UTC:20190720T173000
DTSTAMP:20260424T074306
CREATED:20181207T183900Z
LAST-MODIFIED:20181207T183900Z
UID:5572-1563613200-1563643800@www.wildgoosespace.org.uk
SUMMARY:BWY Teaching With Andrea
DESCRIPTION:Andrea Newman
URL:https://www.wildgoosespace.org.uk/event/bwy-teaching-andrea/
END:VEVENT
BEGIN:VEVENT
DTSTART;TZID=UTC:20190728T190000
DTEND;TZID=UTC:20190728T210000
DTSTAMP:20260424T074306
CREATED:20190709T144527Z
LAST-MODIFIED:20190709T144527Z
UID:6686-1564340400-1564347600@www.wildgoosespace.org.uk
SUMMARY:TRE EVENT
DESCRIPTION:Linda Johnson
URL:https://www.wildgoosespace.org.uk/event/tre-event-32/
END:VEVENT
END:VCALENDAR