BEGIN:VCALENDAR
VERSION:2.0
PRODID:-//Wild Goose Space - ECPv6.15.20//NONSGML v1.0//EN
CALSCALE:GREGORIAN
METHOD:PUBLISH
X-ORIGINAL-URL:https://www.wildgoosespace.org.uk
X-WR-CALDESC:Events for Wild Goose Space
REFRESH-INTERVAL;VALUE=DURATION:PT1H
X-Robots-Tag:noindex
X-PUBLISHED-TTL:PT1H
BEGIN:VTIMEZONE
TZID:UTC
BEGIN:STANDARD
TZOFFSETFROM:+0000
TZOFFSETTO:+0000
TZNAME:UTC
DTSTART:20180101T000000
END:STANDARD
END:VTIMEZONE
BEGIN:VEVENT
DTSTART;TZID=UTC:20190425T140000
DTEND;TZID=UTC:20190502T150000
DTSTAMP:20260424T034918
CREATED:20190425T092547Z
LAST-MODIFIED:20190425T092547Z
UID:6433-1556200800-1556809200@www.wildgoosespace.org.uk
SUMMARY:Private Hire - Ruth
DESCRIPTION:Ruth Price
URL:https://www.wildgoosespace.org.uk/event/private-hire-ruth-2/
END:VEVENT
BEGIN:VEVENT
DTSTART;TZID=UTC:20190501T100000
DTEND;TZID=UTC:20190501T110000
DTSTAMP:20260424T034918
CREATED:20190501T115103Z
LAST-MODIFIED:20190501T115103Z
UID:6473-1556704800-1556708400@www.wildgoosespace.org.uk
SUMMARY:Marinella and Guests
DESCRIPTION:Private Event
URL:https://www.wildgoosespace.org.uk/event/marinella-and-guests/
END:VEVENT
BEGIN:VEVENT
DTSTART;TZID=UTC:20190503T183000
DTEND;TZID=UTC:20190503T203000
DTSTAMP:20260424T034918
CREATED:20190131T151510Z
LAST-MODIFIED:20190131T151510Z
UID:5936-1556908200-1556915400@www.wildgoosespace.org.uk
SUMMARY:Jongdar
DESCRIPTION:Anita Cheung
URL:https://www.wildgoosespace.org.uk/event/jongdar-9/
END:VEVENT
BEGIN:VEVENT
DTSTART;TZID=UTC:20190504T090000
DTEND;TZID=UTC:20190505T170000
DTSTAMP:20260424T034918
CREATED:20180418T114722Z
LAST-MODIFIED:20180418T114722Z
UID:4417-1556960400-1557075600@www.wildgoosespace.org.uk
SUMMARY:Jane Collins
DESCRIPTION:Jane Collins
URL:https://www.wildgoosespace.org.uk/event/jane-collins-2/
END:VEVENT
BEGIN:VEVENT
DTSTART;TZID=UTC:20190505T180000
DTEND;TZID=UTC:20190505T220000
DTSTAMP:20260424T034918
CREATED:20190411T095541Z
LAST-MODIFIED:20190411T095541Z
UID:6424-1557079200-1557093600@www.wildgoosespace.org.uk
SUMMARY:Evening Event Ellie Little
DESCRIPTION:Ellie Little
URL:https://www.wildgoosespace.org.uk/event/evening-event-ellie-little/
END:VEVENT
BEGIN:VEVENT
DTSTART;TZID=UTC:20190508T164500
DTEND;TZID=UTC:20190508T184500
DTSTAMP:20260424T034918
CREATED:20190425T110131Z
LAST-MODIFIED:20190521T101146Z
UID:6435-1557333900-1557341100@www.wildgoosespace.org.uk
SUMMARY:Sound Bath
DESCRIPTION:Sound Bath with Aya \nhello@ayazebrowski.com
URL:https://www.wildgoosespace.org.uk/event/sound-bath/
END:VEVENT
BEGIN:VEVENT
DTSTART;TZID=UTC:20190510T190000
DTEND;TZID=UTC:20190510T210000
DTSTAMP:20260424T034918
CREATED:20190109T094553Z
LAST-MODIFIED:20190109T094553Z
UID:5785-1557514800-1557522000@www.wildgoosespace.org.uk
SUMMARY:Marinella
DESCRIPTION:Marinella \n  \nMonthly Yoga and self care for women.
URL:https://www.wildgoosespace.org.uk/event/marinella-4/
END:VEVENT
BEGIN:VEVENT
DTSTART;TZID=UTC:20190511T090000
DTEND;TZID=UTC:20190512T173000
DTSTAMP:20260424T034918
CREATED:20170905T163108Z
LAST-MODIFIED:20170905T163108Z
UID:2960-1557565200-1557682200@www.wildgoosespace.org.uk
SUMMARY:BWYQ
DESCRIPTION:  \nBritish Wheel of Yoga Teacher Training. \nWith Eve Douglas \nContact :- eve.yoga@hotmail.co.uk
URL:https://www.wildgoosespace.org.uk/event/bwyq-9/
END:VEVENT
BEGIN:VEVENT
DTSTART;TZID=UTC:20190518T093000
DTEND;TZID=UTC:20190518T173000
DTSTAMP:20260424T034918
CREATED:20170313T133256Z
LAST-MODIFIED:20190521T152654Z
UID:2260-1558171800-1558200600@www.wildgoosespace.org.uk
SUMMARY:BWY Teacher Training Andrea Newman
DESCRIPTION:  \nBritish Wheel of Yoga Anatomy Training. \nAndrea Newman \nWeekend Times. \nSaturday 9.30am to 5.30pm \n 
URL:https://www.wildgoosespace.org.uk/event/bwy-teacher-training-4/
END:VEVENT
BEGIN:VEVENT
DTSTART;TZID=UTC:20190519T090000
DTEND;TZID=UTC:20190519T190000
DTSTAMP:20260424T034918
CREATED:20190201T114150Z
LAST-MODIFIED:20190228T142900Z
UID:5945-1558256400-1558292400@www.wildgoosespace.org.uk
SUMMARY:Meetings Without Masks
DESCRIPTION:Bethan
URL:https://www.wildgoosespace.org.uk/event/private-hire-84/
END:VEVENT
BEGIN:VEVENT
DTSTART;TZID=UTC:20190519T193000
DTEND;TZID=UTC:20190519T213000
DTSTAMP:20260424T034918
CREATED:20190507T114841Z
LAST-MODIFIED:20190507T114841Z
UID:6485-1558294200-1558301400@www.wildgoosespace.org.uk
SUMMARY:Private Hire - Linda
DESCRIPTION:Linda Johnson
URL:https://www.wildgoosespace.org.uk/event/private-hire-linda-2/
END:VEVENT
BEGIN:VEVENT
DTSTART;TZID=UTC:20190523T190000
DTEND;TZID=UTC:20190523T213000
DTSTAMP:20260424T034918
CREATED:20180605T154528Z
LAST-MODIFIED:20180605T154528Z
UID:4578-1558638000-1558647000@www.wildgoosespace.org.uk
SUMMARY:Opening to the Beloved
DESCRIPTION:annaplay@hotmail.com
URL:https://www.wildgoosespace.org.uk/event/opening-to-the-beloved-18/
END:VEVENT
BEGIN:VEVENT
DTSTART;TZID=UTC:20190525T093000
DTEND;TZID=UTC:20190525T130000
DTSTAMP:20260424T034918
CREATED:20170708T131751Z
LAST-MODIFIED:20170708T131751Z
UID:2608-1558776600-1558789200@www.wildgoosespace.org.uk
SUMMARY:Caroline Reid Yoga
DESCRIPTION:  \nCaroline Reid Yoga \nContact Caroline \ncarolinereidyoga.com \n07570 507494
URL:https://www.wildgoosespace.org.uk/event/caroline-reid-yoga-27/
END:VEVENT
BEGIN:VEVENT
DTSTART;TZID=UTC:20190526T090000
DTEND;TZID=UTC:20190526T180000
DTSTAMP:20260424T034918
CREATED:20181106T111244Z
LAST-MODIFIED:20181106T111244Z
UID:5479-1558861200-1558893600@www.wildgoosespace.org.uk
SUMMARY:Cacao Ceremony
DESCRIPTION:Cacao Ceremony with Jax \njaxleoallen@yahoo.co.uk
URL:https://www.wildgoosespace.org.uk/event/cacao-ceremony-2/
END:VEVENT
BEGIN:VEVENT
DTSTART;TZID=UTC:20190531T160000
DTEND;TZID=UTC:20190531T170000
DTSTAMP:20260424T034918
CREATED:20190513T154054Z
LAST-MODIFIED:20190513T154054Z
UID:6513-1559318400-1559322000@www.wildgoosespace.org.uk
SUMMARY:I am an Artist - Well Being Month
DESCRIPTION:I am an artist Well being Month \n4pm to 5pm Fridays 31st May 2019 to 28th June 2019
URL:https://www.wildgoosespace.org.uk/event/artist-well-month/
END:VEVENT
END:VCALENDAR