BEGIN:VCALENDAR
VERSION:2.0
PRODID:-//Wild Goose Space - ECPv6.15.20//NONSGML v1.0//EN
CALSCALE:GREGORIAN
METHOD:PUBLISH
X-ORIGINAL-URL:https://www.wildgoosespace.org.uk
X-WR-CALDESC:Events for Wild Goose Space
REFRESH-INTERVAL;VALUE=DURATION:PT1H
X-Robots-Tag:noindex
X-PUBLISHED-TTL:PT1H
BEGIN:VTIMEZONE
TZID:UTC
BEGIN:STANDARD
TZOFFSETFROM:+0000
TZOFFSETTO:+0000
TZNAME:UTC
DTSTART:20170101T000000
END:STANDARD
END:VTIMEZONE
BEGIN:VEVENT
DTSTART;TZID=UTC:20180802T190000
DTEND;TZID=UTC:20180802T213000
DTSTAMP:20260423T143432
CREATED:20180621T105840Z
LAST-MODIFIED:20180621T105840Z
UID:4674-1533236400-1533245400@www.wildgoosespace.org.uk
SUMMARY:Women's Circle
DESCRIPTION:Whispering Moon \n  \nPaloma Suarez
URL:https://www.wildgoosespace.org.uk/event/womens-circle-14/
END:VEVENT
BEGIN:VEVENT
DTSTART;TZID=UTC:20180805T100000
DTEND;TZID=UTC:20180805T133000
DTSTAMP:20260423T143432
CREATED:20180625T133719Z
LAST-MODIFIED:20180625T133719Z
UID:4711-1533463200-1533475800@www.wildgoosespace.org.uk
SUMMARY:Children's Party
DESCRIPTION:Kate Bird \n  \n  \n  \nkatebird1978@gmail.com
URL:https://www.wildgoosespace.org.uk/event/childrens-party-10/
END:VEVENT
BEGIN:VEVENT
DTSTART;TZID=UTC:20180806T103000
DTEND;TZID=UTC:20180806T113000
DTSTAMP:20260423T143432
CREATED:20180801T100510Z
LAST-MODIFIED:20180801T100649Z
UID:4790-1533551400-1533555000@www.wildgoosespace.org.uk
SUMMARY:Dance Mums
DESCRIPTION:Dance Mums \n\nNEW LOCATION:\nNorth Bristol @ Wild Goose Space\n228 Mina Rd\, Bristol BS2 9YP\n\nMondays 10:30am-11:15am\n\nSvetlana Ovsyannikova (Woodgate) \n\n\nOvDa Managing Director/Dance teacher/Choreographer/Performer/Dancer\n\nwww.ovsyannikovadance.com\n07794 111608
URL:https://www.wildgoosespace.org.uk/event/dance-mums-5/
END:VEVENT
BEGIN:VEVENT
DTSTART;TZID=UTC:20180807T200000
DTEND;TZID=UTC:20180807T210000
DTSTAMP:20260423T143432
CREATED:20180801T102237Z
LAST-MODIFIED:20180801T102237Z
UID:4798-1533672000-1533675600@www.wildgoosespace.org.uk
SUMMARY:Pilates With Ula
DESCRIPTION:Phone:07733 182538Email:avantipilates@gmail.com   Pilates with Ula
URL:https://www.wildgoosespace.org.uk/event/pilates-with-ula-9/
END:VEVENT
BEGIN:VEVENT
DTSTART;TZID=UTC:20180815T020000
DTEND;TZID=UTC:20180815T170000
DTSTAMP:20260423T143432
CREATED:20180815T143059Z
LAST-MODIFIED:20180815T143059Z
UID:5136-1534298400-1534352400@www.wildgoosespace.org.uk
SUMMARY:Eid Celebrations
DESCRIPTION:Eid Celebrations \n  \nNaila
URL:https://www.wildgoosespace.org.uk/event/eid-celebrations-2/
END:VEVENT
BEGIN:VEVENT
DTSTART;TZID=UTC:20180816T180000
DTEND;TZID=UTC:20180816T220000
DTSTAMP:20260423T143432
CREATED:20180812T163442Z
LAST-MODIFIED:20180812T163442Z
UID:5119-1534442400-1534456800@www.wildgoosespace.org.uk
SUMMARY:Sue Tate Exhibition
DESCRIPTION:Sue Tate Exhibition
URL:https://www.wildgoosespace.org.uk/event/sue-tate-exhibition/
END:VEVENT
BEGIN:VEVENT
DTSTART;TZID=UTC:20180819T190000
DTEND;TZID=UTC:20180819T200000
DTSTAMP:20260423T143432
CREATED:20180815T143258Z
LAST-MODIFIED:20180819T124347Z
UID:5138-1534705200-1534708800@www.wildgoosespace.org.uk
SUMMARY:Circoplex Light Show - With Ben Lowrey
DESCRIPTION:  \nCome and experience the mesmerising Circoplex Light show for yourself! Sunday 7pm. A different Yoga teacher each week. MoveGB or drop-in. View photos and videos here > http://circoplex.com/circoplex-yoga-bristol/
URL:https://www.wildgoosespace.org.uk/event/yoga-ben-lowrey/
END:VEVENT
END:VCALENDAR