BEGIN:VCALENDAR
VERSION:2.0
PRODID:-//Wild Goose Space - ECPv6.15.20//NONSGML v1.0//EN
CALSCALE:GREGORIAN
METHOD:PUBLISH
X-WR-CALNAME:Wild Goose Space
X-ORIGINAL-URL:https://www.wildgoosespace.org.uk
X-WR-CALDESC:Events for Wild Goose Space
REFRESH-INTERVAL;VALUE=DURATION:PT1H
X-Robots-Tag:noindex
X-PUBLISHED-TTL:PT1H
BEGIN:VTIMEZONE
TZID:UTC
BEGIN:STANDARD
TZOFFSETFROM:+0000
TZOFFSETTO:+0000
TZNAME:UTC
DTSTART:20170101T000000
END:STANDARD
END:VTIMEZONE
BEGIN:VEVENT
DTSTART;TZID=UTC:20180701T180000
DTEND;TZID=UTC:20180701T220000
DTSTAMP:20260423T125453
CREATED:20180625T134327Z
LAST-MODIFIED:20180625T134327Z
UID:4714-1530468000-1530482400@www.wildgoosespace.org.uk
SUMMARY:Private Hire
DESCRIPTION:Fiona
URL:https://www.wildgoosespace.org.uk/event/private-hire-69/
END:VEVENT
BEGIN:VEVENT
DTSTART;TZID=UTC:20180706T173000
DTEND;TZID=UTC:20180706T183000
DTSTAMP:20260423T125453
CREATED:20180619T130030Z
LAST-MODIFIED:20180619T130030Z
UID:4621-1530898200-1530901800@www.wildgoosespace.org.uk
SUMMARY:Handstands - Ben Lowry
DESCRIPTION:New Class
URL:https://www.wildgoosespace.org.uk/event/handstands-ben-lowry/
END:VEVENT
BEGIN:VEVENT
DTSTART;TZID=UTC:20180707T090000
DTEND;TZID=UTC:20180708T173000
DTSTAMP:20260423T125453
CREATED:20161114T115853Z
LAST-MODIFIED:20161114T115853Z
UID:1266-1530954000-1531071000@www.wildgoosespace.org.uk
SUMMARY:BWY Training
DESCRIPTION:British Wheel of Yoga Training Weekend. \nContact Eve. \neve.yoga@hotmail.co.uk
URL:https://www.wildgoosespace.org.uk/event/bwy-training-12/
END:VEVENT
BEGIN:VEVENT
DTSTART;TZID=UTC:20180707T190000
DTEND;TZID=UTC:20180707T220000
DTSTAMP:20260423T125453
CREATED:20180227T140901Z
LAST-MODIFIED:20180227T140901Z
UID:3853-1530990000-1531000800@www.wildgoosespace.org.uk
SUMMARY:Sound Journey
DESCRIPTION:Sound Journey with Anthar.
URL:https://www.wildgoosespace.org.uk/event/sound-journey-3/
END:VEVENT
BEGIN:VEVENT
DTSTART;TZID=UTC:20180712T193000
DTEND;TZID=UTC:20180712T213000
DTSTAMP:20260423T125453
CREATED:20171120T151646Z
LAST-MODIFIED:20171120T151646Z
UID:3311-1531423800-1531431000@www.wildgoosespace.org.uk
SUMMARY:Women's Circle
DESCRIPTION:Paloma Suarez \nWhispering Moon Women’s Circle: a space to explore and celebrate our creativity in a magical and non-judgmental setting. Sharing the nourishment of women being together. \nEvery second Thursday of the month at the Wild Goose Space \nthisearth.info@gmail.com
URL:https://www.wildgoosespace.org.uk/event/womens-circle-2/
END:VEVENT
BEGIN:VEVENT
DTSTART;TZID=UTC:20180713T190000
DTEND;TZID=UTC:20180713T220000
DTSTAMP:20260423T125453
CREATED:20180619T134424Z
LAST-MODIFIED:20180625T090952Z
UID:4656-1531508400-1531519200@www.wildgoosespace.org.uk
SUMMARY:FILM ALL THE PRESIDENT'S MEN
DESCRIPTION:WILDGOOSE SPACE FILM CLUB PRESENTS TOGETHER WITH TH BRISTOL CABLE.
URL:https://www.wildgoosespace.org.uk/event/film-2/
END:VEVENT
BEGIN:VEVENT
DTSTART;TZID=UTC:20180714T090000
DTEND;TZID=UTC:20180714T173000
DTSTAMP:20260423T125453
CREATED:20170313T131455Z
LAST-MODIFIED:20170313T131516Z
UID:2247-1531558800-1531589400@www.wildgoosespace.org.uk
SUMMARY:BWY Foundation Course
DESCRIPTION:British Wheel of Yoga Foundation Course. \nEve Douglas. \nevedouglas@hotmail.co.uk
URL:https://www.wildgoosespace.org.uk/event/bwy-foundation-course-4/
END:VEVENT
BEGIN:VEVENT
DTSTART;TZID=UTC:20180715T090000
DTEND;TZID=UTC:20180715T123000
DTSTAMP:20260423T125453
CREATED:20180619T162904Z
LAST-MODIFIED:20180619T162904Z
UID:4665-1531645200-1531657800@www.wildgoosespace.org.uk
SUMMARY:Children's Party
DESCRIPTION:Children’s Party \n  \nAlex Hayes \nbristollemonade@gmail.com
URL:https://www.wildgoosespace.org.uk/event/childrens-party-9/
END:VEVENT
BEGIN:VEVENT
DTSTART;TZID=UTC:20180715T183000
DTEND;TZID=UTC:20180715T213000
DTSTAMP:20260423T125453
CREATED:20180620T163430Z
LAST-MODIFIED:20180620T165705Z
UID:4670-1531679400-1531690200@www.wildgoosespace.org.uk
SUMMARY:Home Birth Group
DESCRIPTION:Home Birth Group
URL:https://www.wildgoosespace.org.uk/event/home-birth-group-5/
END:VEVENT
BEGIN:VEVENT
DTSTART;TZID=UTC:20180719T190000
DTEND;TZID=UTC:20180719T213000
DTSTAMP:20260423T125453
CREATED:20180619T134626Z
LAST-MODIFIED:20180619T134626Z
UID:4658-1532026800-1532035800@www.wildgoosespace.org.uk
SUMMARY:Positive Birth Group
DESCRIPTION:Positive Birth Group
URL:https://www.wildgoosespace.org.uk/event/positive-birth-group-13/
END:VEVENT
BEGIN:VEVENT
DTSTART;TZID=UTC:20180721T140000
DTEND;TZID=UTC:20180721T180000
DTSTAMP:20260423T125453
CREATED:20180718T122430Z
LAST-MODIFIED:20180718T122457Z
UID:4767-1532181600-1532196000@www.wildgoosespace.org.uk
SUMMARY:Private Hire - Leeza
DESCRIPTION:Leeza
URL:https://www.wildgoosespace.org.uk/event/private-hire-leeza/
END:VEVENT
BEGIN:VEVENT
DTSTART;TZID=UTC:20180722T090000
DTEND;TZID=UTC:20180722T173000
DTSTAMP:20260423T125453
CREATED:20180327T104642Z
LAST-MODIFIED:20180327T104642Z
UID:4262-1532250000-1532280600@www.wildgoosespace.org.uk
SUMMARY:BWY
DESCRIPTION:Final Course Day \nAndrea Newman
URL:https://www.wildgoosespace.org.uk/event/bwy-4/
END:VEVENT
BEGIN:VEVENT
DTSTART;TZID=UTC:20180724T080000
DTEND;TZID=UTC:20180724T170000
DTSTAMP:20260423T125453
CREATED:20180411T104256Z
LAST-MODIFIED:20180411T104256Z
UID:4361-1532419200-1532451600@www.wildgoosespace.org.uk
SUMMARY:TERM END
DESCRIPTION:TERM END
URL:https://www.wildgoosespace.org.uk/event/term-end/
END:VEVENT
BEGIN:VEVENT
DTSTART;TZID=UTC:20180725T080000
DTEND;TZID=UTC:20180725T170000
DTSTAMP:20260423T125453
CREATED:20180725T095727Z
LAST-MODIFIED:20180725T095727Z
UID:4781-1532505600-1532538000@www.wildgoosespace.org.uk
SUMMARY:HALF TERM
DESCRIPTION:HALF TERM
URL:https://www.wildgoosespace.org.uk/event/half-term-5/
END:VEVENT
BEGIN:VEVENT
DTSTART;TZID=UTC:20180729T093000
DTEND;TZID=UTC:20180729T173000
DTSTAMP:20260423T125453
CREATED:20180624T172144Z
LAST-MODIFIED:20180624T172144Z
UID:4705-1532856600-1532885400@www.wildgoosespace.org.uk
SUMMARY:Jade Egg Workshop
DESCRIPTION:Jade Egg Workshop. \n  \nKalindi Jordan \nkalindi@kalindijordan.com
URL:https://www.wildgoosespace.org.uk/event/jade-egg-workshop/
END:VEVENT
END:VCALENDAR