BEGIN:VCALENDAR
VERSION:2.0
PRODID:-//Wild Goose Space - ECPv6.15.20//NONSGML v1.0//EN
CALSCALE:GREGORIAN
METHOD:PUBLISH
X-WR-CALNAME:Wild Goose Space
X-ORIGINAL-URL:https://www.wildgoosespace.org.uk
X-WR-CALDESC:Events for Wild Goose Space
REFRESH-INTERVAL;VALUE=DURATION:PT1H
X-Robots-Tag:noindex
X-PUBLISHED-TTL:PT1H
BEGIN:VTIMEZONE
TZID:UTC
BEGIN:STANDARD
TZOFFSETFROM:+0000
TZOFFSETTO:+0000
TZNAME:UTC
DTSTART:20200101T000000
END:STANDARD
END:VTIMEZONE
BEGIN:VEVENT
DTSTART;TZID=UTC:20211126T123000
DTEND;TZID=UTC:20211126T125000
DTSTAMP:20260426T033536
CREATED:20211125T113305Z
LAST-MODIFIED:20211125T113305Z
UID:10067-1637929800-1637931000@www.wildgoosespace.org.uk
SUMMARY:MC meeting hirer.
DESCRIPTION:MC to meet Emily 22 The Yard
URL:https://www.wildgoosespace.org.uk/event/mc-meeting-hirer/
END:VEVENT
BEGIN:VEVENT
DTSTART;TZID=UTC:20211126T190000
DTEND;TZID=UTC:20211126T203000
DTSTAMP:20260426T033536
CREATED:20211006T120533Z
LAST-MODIFIED:20211006T120533Z
UID:9888-1637953200-1637958600@www.wildgoosespace.org.uk
SUMMARY:Sound Bath with Rounik
DESCRIPTION:Sound Bath with Rounik
URL:https://www.wildgoosespace.org.uk/event/sound-bath-with-rounik-3/
END:VEVENT
END:VCALENDAR