BEGIN:VCALENDAR
VERSION:2.0
PRODID:-//Wild Goose Space - ECPv6.15.20//NONSGML v1.0//EN
CALSCALE:GREGORIAN
METHOD:PUBLISH
X-ORIGINAL-URL:https://www.wildgoosespace.org.uk
X-WR-CALDESC:Events for Wild Goose Space
REFRESH-INTERVAL;VALUE=DURATION:PT1H
X-Robots-Tag:noindex
X-PUBLISHED-TTL:PT1H
BEGIN:VTIMEZONE
TZID:UTC
BEGIN:STANDARD
TZOFFSETFROM:+0000
TZOFFSETTO:+0000
TZNAME:UTC
DTSTART:20200101T000000
END:STANDARD
END:VTIMEZONE
BEGIN:VEVENT
DTSTART;TZID=UTC:20211105T100000
DTEND;TZID=UTC:20211105T120000
DTSTAMP:20260426T033627
CREATED:20210802T113257Z
LAST-MODIFIED:20211105T124859Z
UID:9569-1636106400-1636113600@www.wildgoosespace.org.uk
SUMMARY:Fit Steps
DESCRIPTION:Fit Steps\nWith Norma Daykin
URL:https://www.wildgoosespace.org.uk/event/fit-steps-6/
END:VEVENT
BEGIN:VEVENT
DTSTART;TZID=UTC:20211105T190000
DTEND;TZID=UTC:20211105T210000
DTSTAMP:20260426T033627
CREATED:20210910T102949Z
LAST-MODIFIED:20210910T102949Z
UID:9702-1636138800-1636146000@www.wildgoosespace.org.uk
SUMMARY:Earth Moon Circle: Samhain\, with Marinella Benelli - all women welcome.
DESCRIPTION:  \nEarth Moon Circle: Samhain\, with Marinella Benelli – all women welcome. \nFor more info and bookings: https://www.earthmoonmala.com/events \n 
URL:https://www.wildgoosespace.org.uk/event/earth-moon-circle-samhain-with-marinella-benelli-all-women-welcome/
END:VEVENT
END:VCALENDAR