BEGIN:VCALENDAR
VERSION:2.0
PRODID:-//Wild Goose Space - ECPv6.15.20//NONSGML v1.0//EN
CALSCALE:GREGORIAN
METHOD:PUBLISH
X-ORIGINAL-URL:https://www.wildgoosespace.org.uk
X-WR-CALDESC:Events for Wild Goose Space
REFRESH-INTERVAL;VALUE=DURATION:PT1H
X-Robots-Tag:noindex
X-PUBLISHED-TTL:PT1H
BEGIN:VTIMEZONE
TZID:UTC
BEGIN:STANDARD
TZOFFSETFROM:+0000
TZOFFSETTO:+0000
TZNAME:UTC
DTSTART:20200101T000000
END:STANDARD
END:VTIMEZONE
BEGIN:VEVENT
DTSTART;TZID=UTC:20211102T120000
DTEND;TZID=UTC:20211102T140000
DTSTAMP:20260426T033645
CREATED:20210910T154758Z
LAST-MODIFIED:20210910T154758Z
UID:9718-1635854400-1635861600@www.wildgoosespace.org.uk
SUMMARY:Event with Kim
DESCRIPTION:Event with Kim
URL:https://www.wildgoosespace.org.uk/event/event-with-kim-2/
END:VEVENT
END:VCALENDAR