BEGIN:VCALENDAR
VERSION:2.0
PRODID:-//Wild Goose Space - ECPv6.15.20//NONSGML v1.0//EN
CALSCALE:GREGORIAN
METHOD:PUBLISH
X-WR-CALNAME:Wild Goose Space
X-ORIGINAL-URL:https://www.wildgoosespace.org.uk
X-WR-CALDESC:Events for Wild Goose Space
REFRESH-INTERVAL;VALUE=DURATION:PT1H
X-Robots-Tag:noindex
X-PUBLISHED-TTL:PT1H
BEGIN:VTIMEZONE
TZID:UTC
BEGIN:STANDARD
TZOFFSETFROM:+0000
TZOFFSETTO:+0000
TZNAME:UTC
DTSTART:20200101T000000
END:STANDARD
END:VTIMEZONE
BEGIN:VEVENT
DTSTART;TZID=UTC:20210915T100000
DTEND;TZID=UTC:20210915T110000
DTSTAMP:20260426T003557
CREATED:20210728T111947Z
LAST-MODIFIED:20210908T083842Z
UID:9511-1631700000-1631703600@www.wildgoosespace.org.uk
SUMMARY:Mothers and Movers
DESCRIPTION:10-11am\nMothers and Movers Yoga Support Circle (for older babies on the move and up to 2 years old)\n\nWed 10-11am from 15th Sep to 20th Oct (6 sessions)\n\n\nAn informal\, nurturing and fun yoga circle for all mothers and baby movers up to the age of 2 years old. These sessions are mainly focused on nurturing you mama and to offer you new ways of how to do yoga and other mindful practices with a little mover around; how to welcome them into your practice space and share some lovely moments of connections; how to adapt to the faster rhythm of life and everything now that your baby moves! \n\n\nNo previous experience of yoga is needed. \n\n\nPre-booking essential\, as spaces are limited and sold as a block.\nBookings online: https://www.earthmoonmala.com/events\n\nIf you cannot make the whole block\, please contact Marinella: https://www.earthmoonmala.com/contact
URL:https://www.wildgoosespace.org.uk/event/mothers-and-movers-2-2021-09-15/
END:VEVENT
END:VCALENDAR