BEGIN:VCALENDAR
VERSION:2.0
PRODID:-//Wild Goose Space - ECPv6.15.20//NONSGML v1.0//EN
CALSCALE:GREGORIAN
METHOD:PUBLISH
X-WR-CALNAME:Wild Goose Space
X-ORIGINAL-URL:https://www.wildgoosespace.org.uk
X-WR-CALDESC:Events for Wild Goose Space
REFRESH-INTERVAL;VALUE=DURATION:PT1H
X-Robots-Tag:noindex
X-PUBLISHED-TTL:PT1H
BEGIN:VTIMEZONE
TZID:UTC
BEGIN:STANDARD
TZOFFSETFROM:+0000
TZOFFSETTO:+0000
TZNAME:UTC
DTSTART:20200101T000000
END:STANDARD
END:VTIMEZONE
BEGIN:VEVENT
DTSTART;TZID=UTC:20210912T140000
DTEND;TZID=UTC:20210912T170000
DTSTAMP:20260426T003557
CREATED:20210908T135829Z
LAST-MODIFIED:20210908T135829Z
UID:9685-1631455200-1631466000@www.wildgoosespace.org.uk
SUMMARY:Private Hire
DESCRIPTION:Ollie ( 222\, Mina Road )
URL:https://www.wildgoosespace.org.uk/event/private-hire-108/
END:VEVENT
BEGIN:VEVENT
DTSTART;TZID=UTC:20210912T180000
DTEND;TZID=UTC:20210912T200000
DTSTAMP:20260426T003557
CREATED:20210726T152205Z
LAST-MODIFIED:20210726T152205Z
UID:9388-1631469600-1631476800@www.wildgoosespace.org.uk
SUMMARY:Sam Bloomfield Hire
DESCRIPTION:Sam Bloomfield Hire
URL:https://www.wildgoosespace.org.uk/event/sam-bloomfield-hire-4/
END:VEVENT
END:VCALENDAR