BEGIN:VCALENDAR
VERSION:2.0
PRODID:-//Wild Goose Space - ECPv6.15.20//NONSGML v1.0//EN
CALSCALE:GREGORIAN
METHOD:PUBLISH
X-ORIGINAL-URL:https://www.wildgoosespace.org.uk
X-WR-CALDESC:Events for Wild Goose Space
REFRESH-INTERVAL;VALUE=DURATION:PT1H
X-Robots-Tag:noindex
X-PUBLISHED-TTL:PT1H
BEGIN:VTIMEZONE
TZID:UTC
BEGIN:STANDARD
TZOFFSETFROM:+0000
TZOFFSETTO:+0000
TZNAME:UTC
DTSTART:20200101T000000
END:STANDARD
END:VTIMEZONE
BEGIN:VEVENT
DTSTART;TZID=UTC:20210910T154500
DTEND;TZID=UTC:20210910T184500
DTSTAMP:20260426T003656
CREATED:20210907T093308Z
LAST-MODIFIED:20210908T180415Z
UID:9635-1631288700-1631299500@www.wildgoosespace.org.uk
SUMMARY:Private Hire Safa
DESCRIPTION:Private Hire Safa
URL:https://www.wildgoosespace.org.uk/event/private-hire-safa/
END:VEVENT
BEGIN:VEVENT
DTSTART;TZID=UTC:20210910T190000
DTEND;TZID=UTC:20210910T210000
DTSTAMP:20260426T003656
CREATED:20210907T084526Z
LAST-MODIFIED:20210907T084526Z
UID:9633-1631300400-1631307600@www.wildgoosespace.org.uk
SUMMARY:Women's Circle with Marinella
DESCRIPTION:Women’s Circle with Marinella
URL:https://www.wildgoosespace.org.uk/event/womens-circle-with-marinella/
END:VEVENT
END:VCALENDAR