BEGIN:VCALENDAR
VERSION:2.0
PRODID:-//Wild Goose Space - ECPv6.15.20//NONSGML v1.0//EN
CALSCALE:GREGORIAN
METHOD:PUBLISH
X-WR-CALNAME:Wild Goose Space
X-ORIGINAL-URL:https://www.wildgoosespace.org.uk
X-WR-CALDESC:Events for Wild Goose Space
REFRESH-INTERVAL;VALUE=DURATION:PT1H
X-Robots-Tag:noindex
X-PUBLISHED-TTL:PT1H
BEGIN:VTIMEZONE
TZID:UTC
BEGIN:STANDARD
TZOFFSETFROM:+0000
TZOFFSETTO:+0000
TZNAME:UTC
DTSTART:20200101T000000
END:STANDARD
END:VTIMEZONE
BEGIN:VEVENT
DTSTART;TZID=UTC:20210907T100000
DTEND;TZID=UTC:20210907T110000
DTSTAMP:20260426T003600
CREATED:20210728T111247Z
LAST-MODIFIED:20210728T111247Z
UID:9477-1631008800-1631012400@www.wildgoosespace.org.uk
SUMMARY:Ula Collins Pilates
DESCRIPTION:Ula Collins Pilates
URL:https://www.wildgoosespace.org.uk/event/ula-collins-pilates/
END:VEVENT
BEGIN:VEVENT
DTSTART;TZID=UTC:20210907T181500
DTEND;TZID=UTC:20210907T194500
DTSTAMP:20260426T003600
CREATED:20210506T164143Z
LAST-MODIFIED:20210728T103759Z
UID:9109-1631038500-1631043900@www.wildgoosespace.org.uk
SUMMARY:Yoga with Sue Peggs
DESCRIPTION:Yoga with Sue Peggs
URL:https://www.wildgoosespace.org.uk/event/yoga-with-sarah-waterfield-and-sue-peggs-3/
END:VEVENT
BEGIN:VEVENT
DTSTART;TZID=UTC:20210907T200000
DTEND;TZID=UTC:20210907T210000
DTSTAMP:20260426T003600
CREATED:20210728T111442Z
LAST-MODIFIED:20210728T111442Z
UID:9493-1631044800-1631048400@www.wildgoosespace.org.uk
SUMMARY:Ula Collins Pilates
DESCRIPTION:Ula Collins Pilates
URL:https://www.wildgoosespace.org.uk/event/ula-collins-pilates-2/
END:VEVENT
END:VCALENDAR