BEGIN:VCALENDAR
VERSION:2.0
PRODID:-//Wild Goose Space - ECPv6.15.20//NONSGML v1.0//EN
CALSCALE:GREGORIAN
METHOD:PUBLISH
X-ORIGINAL-URL:https://www.wildgoosespace.org.uk
X-WR-CALDESC:Events for Wild Goose Space
REFRESH-INTERVAL;VALUE=DURATION:PT1H
X-Robots-Tag:noindex
X-PUBLISHED-TTL:PT1H
BEGIN:VTIMEZONE
TZID:UTC
BEGIN:STANDARD
TZOFFSETFROM:+0000
TZOFFSETTO:+0000
TZNAME:UTC
DTSTART:20200101T000000
END:STANDARD
END:VTIMEZONE
BEGIN:VEVENT
DTSTART;TZID=UTC:20210906T160000
DTEND;TZID=UTC:20210906T170000
DTSTAMP:20260426T003629
CREATED:20210920T145149Z
LAST-MODIFIED:20210920T145149Z
UID:9803-1630944000-1630947600@www.wildgoosespace.org.uk
SUMMARY:Claire Louise One to One
DESCRIPTION:Claire Louise One to One
URL:https://www.wildgoosespace.org.uk/event/claire-louise-one-to-one/
END:VEVENT
BEGIN:VEVENT
DTSTART;TZID=UTC:20210906T171500
DTEND;TZID=UTC:20210906T180500
DTSTAMP:20260426T003629
CREATED:20210728T105933Z
LAST-MODIFIED:20210728T105933Z
UID:9443-1630948500-1630951500@www.wildgoosespace.org.uk
SUMMARY:Pilates With Paula
DESCRIPTION:Pilates With Paula
URL:https://www.wildgoosespace.org.uk/event/pilates-with-paula-21/
END:VEVENT
BEGIN:VEVENT
DTSTART;TZID=UTC:20210906T181500
DTEND;TZID=UTC:20210906T190500
DTSTAMP:20260426T003629
CREATED:20210728T110136Z
LAST-MODIFIED:20210728T110136Z
UID:9460-1630952100-1630955100@www.wildgoosespace.org.uk
SUMMARY:Pilates With Paula
DESCRIPTION:Pilates With Paula
URL:https://www.wildgoosespace.org.uk/event/pilates-with-paula-22/
END:VEVENT
END:VCALENDAR