BEGIN:VCALENDAR
VERSION:2.0
PRODID:-//Wild Goose Space - ECPv6.15.20//NONSGML v1.0//EN
CALSCALE:GREGORIAN
METHOD:PUBLISH
X-ORIGINAL-URL:https://www.wildgoosespace.org.uk
X-WR-CALDESC:Events for Wild Goose Space
REFRESH-INTERVAL;VALUE=DURATION:PT1H
X-Robots-Tag:noindex
X-PUBLISHED-TTL:PT1H
BEGIN:VTIMEZONE
TZID:UTC
BEGIN:STANDARD
TZOFFSETFROM:+0000
TZOFFSETTO:+0000
TZNAME:UTC
DTSTART:20200101T000000
END:STANDARD
END:VTIMEZONE
BEGIN:VEVENT
DTSTART;TZID=UTC:20210723T100000
DTEND;TZID=UTC:20210723T120000
DTSTAMP:20260425T213334
CREATED:20210526T155324Z
LAST-MODIFIED:20210802T114103Z
UID:9257-1627034400-1627041600@www.wildgoosespace.org.uk
SUMMARY:Fit Steps
DESCRIPTION:Fit Steps
URL:https://www.wildgoosespace.org.uk/event/fit-steps-2/
END:VEVENT
BEGIN:VEVENT
DTSTART;TZID=UTC:20210723T180000
DTEND;TZID=UTC:20210723T183000
DTSTAMP:20260425T213334
CREATED:20210715T161416Z
LAST-MODIFIED:20210715T161416Z
UID:9375-1627063200-1627065000@www.wildgoosespace.org.uk
SUMMARY:Private
DESCRIPTION:To Meet with Akilah
URL:https://www.wildgoosespace.org.uk/event/private/
END:VEVENT
END:VCALENDAR