BEGIN:VCALENDAR
VERSION:2.0
PRODID:-//Wild Goose Space - ECPv6.15.20//NONSGML v1.0//EN
CALSCALE:GREGORIAN
METHOD:PUBLISH
X-WR-CALNAME:Wild Goose Space
X-ORIGINAL-URL:https://www.wildgoosespace.org.uk
X-WR-CALDESC:Events for Wild Goose Space
REFRESH-INTERVAL;VALUE=DURATION:PT1H
X-Robots-Tag:noindex
X-PUBLISHED-TTL:PT1H
BEGIN:VTIMEZONE
TZID:UTC
BEGIN:STANDARD
TZOFFSETFROM:+0000
TZOFFSETTO:+0000
TZNAME:UTC
DTSTART:20200101T000000
END:STANDARD
END:VTIMEZONE
BEGIN:VEVENT
DTSTART;TZID=UTC:20210710T110000
DTEND;TZID=UTC:20210710T123000
DTSTAMP:20260425T230910
CREATED:20210710T091758Z
LAST-MODIFIED:20210710T091859Z
UID:9365-1625914800-1625920200@www.wildgoosespace.org.uk
SUMMARY:Indigenous Story Telling
DESCRIPTION:Indigenous story telling – Kabbo
URL:https://www.wildgoosespace.org.uk/event/indigenous-story-telling/
END:VEVENT
BEGIN:VEVENT
DTSTART;TZID=UTC:20210710T180000
DTEND;TZID=UTC:20210710T213000
DTSTAMP:20260425T230910
CREATED:20210611T092356Z
LAST-MODIFIED:20210705T133221Z
UID:9333-1625940000-1625952600@www.wildgoosespace.org.uk
SUMMARY:Three Sisters Circle
DESCRIPTION:Three Sisters Circle. \nTortie\,Sheena and George.
URL:https://www.wildgoosespace.org.uk/event/tortie-rye/
END:VEVENT
END:VCALENDAR