BEGIN:VCALENDAR
VERSION:2.0
PRODID:-//Wild Goose Space - ECPv6.15.20//NONSGML v1.0//EN
CALSCALE:GREGORIAN
METHOD:PUBLISH
X-WR-CALNAME:Wild Goose Space
X-ORIGINAL-URL:https://www.wildgoosespace.org.uk
X-WR-CALDESC:Events for Wild Goose Space
REFRESH-INTERVAL;VALUE=DURATION:PT1H
X-Robots-Tag:noindex
X-PUBLISHED-TTL:PT1H
BEGIN:VTIMEZONE
TZID:UTC
BEGIN:STANDARD
TZOFFSETFROM:+0000
TZOFFSETTO:+0000
TZNAME:UTC
DTSTART:20200101T000000
END:STANDARD
END:VTIMEZONE
BEGIN:VEVENT
DTSTART;TZID=UTC:20210629T160000
DTEND;TZID=UTC:20210629T180000
DTSTAMP:20260425T195846
CREATED:20210526T154423Z
LAST-MODIFIED:20210526T154423Z
UID:9255-1624982400-1624989600@www.wildgoosespace.org.uk
SUMMARY:Fit Steps
DESCRIPTION:Tuesdays at 4pm from 18thMayCost: £30 for six weeksFitStepsis a dance exercise programme that combines the dynamic and elegant moves of latinand ballroom dancing in an energetic workout that provides all round fitness benefits.We teach high impact and low impact options so you can adapt the intensity level to suit your needs.Taught by Norma Daykin (UKA Dance\, ISTD\, CIMPSA).Contact: 07786063634. Email: dancelifebristol@gmail.comWebsite:https://dancelifebristol.wordpress.com
URL:https://www.wildgoosespace.org.uk/event/fit-steps/
END:VEVENT
END:VCALENDAR