BEGIN:VCALENDAR
VERSION:2.0
PRODID:-//Wild Goose Space - ECPv6.15.20//NONSGML v1.0//EN
CALSCALE:GREGORIAN
METHOD:PUBLISH
X-WR-CALNAME:Wild Goose Space
X-ORIGINAL-URL:https://www.wildgoosespace.org.uk
X-WR-CALDESC:Events for Wild Goose Space
REFRESH-INTERVAL;VALUE=DURATION:PT1H
X-Robots-Tag:noindex
X-PUBLISHED-TTL:PT1H
BEGIN:VTIMEZONE
TZID:UTC
BEGIN:STANDARD
TZOFFSETFROM:+0000
TZOFFSETTO:+0000
TZNAME:UTC
DTSTART:20200101T000000
END:STANDARD
END:VTIMEZONE
BEGIN:VEVENT
DTSTART;TZID=UTC:20210627T183000
DTEND;TZID=UTC:20210627T203000
DTSTAMP:20260425T195352
CREATED:20210607T105234Z
LAST-MODIFIED:20210607T105234Z
UID:9313-1624818600-1624825800@www.wildgoosespace.org.uk
SUMMARY:Home Birth Group with Tortie.
DESCRIPTION:Home Birth Group with Tortie.
URL:https://www.wildgoosespace.org.uk/event/home-birth-group-with-tortie/
END:VEVENT
END:VCALENDAR