BEGIN:VCALENDAR
VERSION:2.0
PRODID:-//Wild Goose Space - ECPv6.15.20//NONSGML v1.0//EN
CALSCALE:GREGORIAN
METHOD:PUBLISH
X-ORIGINAL-URL:https://www.wildgoosespace.org.uk
X-WR-CALDESC:Events for Wild Goose Space
REFRESH-INTERVAL;VALUE=DURATION:PT1H
X-Robots-Tag:noindex
X-PUBLISHED-TTL:PT1H
BEGIN:VTIMEZONE
TZID:UTC
BEGIN:STANDARD
TZOFFSETFROM:+0000
TZOFFSETTO:+0000
TZNAME:UTC
DTSTART:20200101T000000
END:STANDARD
END:VTIMEZONE
BEGIN:VEVENT
DTSTART;TZID=UTC:20210610T093000
DTEND;TZID=UTC:20210610T104500
DTSTAMP:20260425T195837
CREATED:20210506T171540Z
LAST-MODIFIED:20210506T171540Z
UID:9111-1623317400-1623321900@www.wildgoosespace.org.uk
SUMMARY:Yoga 4 All with Claire Louise
DESCRIPTION:Yoga 4 All with Claire Louise
URL:https://www.wildgoosespace.org.uk/event/yoga-4-all-with-claire-louise/
END:VEVENT
BEGIN:VEVENT
DTSTART;TZID=UTC:20210610T130000
DTEND;TZID=UTC:20210610T140000
DTSTAMP:20260425T195837
CREATED:20210608T094700Z
LAST-MODIFIED:20210608T094700Z
UID:9323-1623330000-1623333600@www.wildgoosespace.org.uk
SUMMARY:Bob Blunden Hire
DESCRIPTION:Bob Blunden Hire
URL:https://www.wildgoosespace.org.uk/event/bob-blunden-hire/
END:VEVENT
END:VCALENDAR