BEGIN:VCALENDAR
VERSION:2.0
PRODID:-//Wild Goose Space - ECPv6.15.20//NONSGML v1.0//EN
CALSCALE:GREGORIAN
METHOD:PUBLISH
X-ORIGINAL-URL:https://www.wildgoosespace.org.uk
X-WR-CALDESC:Events for Wild Goose Space
REFRESH-INTERVAL;VALUE=DURATION:PT1H
X-Robots-Tag:noindex
X-PUBLISHED-TTL:PT1H
BEGIN:VTIMEZONE
TZID:UTC
BEGIN:STANDARD
TZOFFSETFROM:+0000
TZOFFSETTO:+0000
TZNAME:UTC
DTSTART:20200101T000000
END:STANDARD
END:VTIMEZONE
BEGIN:VEVENT
DTSTART;TZID=UTC:20210607T120000
DTEND;TZID=UTC:20210607T130000
DTSTAMP:20260425T195840
CREATED:20210607T103009Z
LAST-MODIFIED:20210607T103009Z
UID:9292-1623067200-1623070800@www.wildgoosespace.org.uk
SUMMARY:Women's Yoga with Claire Louise
DESCRIPTION:Women’s Yoga with Claire Louise
URL:https://www.wildgoosespace.org.uk/event/womens-yoga-with-claire-louise/
END:VEVENT
BEGIN:VEVENT
DTSTART;TZID=UTC:20210607T160000
DTEND;TZID=UTC:20210607T170000
DTSTAMP:20260425T195840
CREATED:20210607T104142Z
LAST-MODIFIED:20210607T104142Z
UID:9300-1623081600-1623085200@www.wildgoosespace.org.uk
SUMMARY:Restorative Yoga With Claire Louise
DESCRIPTION:Restorative Yoga With Claire Louise
URL:https://www.wildgoosespace.org.uk/event/restorative-yoga-with-claire-louise/
END:VEVENT
END:VCALENDAR