BEGIN:VCALENDAR
VERSION:2.0
PRODID:-//Wild Goose Space - ECPv6.15.20//NONSGML v1.0//EN
CALSCALE:GREGORIAN
METHOD:PUBLISH
X-ORIGINAL-URL:https://www.wildgoosespace.org.uk
X-WR-CALDESC:Events for Wild Goose Space
REFRESH-INTERVAL;VALUE=DURATION:PT1H
X-Robots-Tag:noindex
X-PUBLISHED-TTL:PT1H
BEGIN:VTIMEZONE
TZID:UTC
BEGIN:STANDARD
TZOFFSETFROM:+0000
TZOFFSETTO:+0000
TZNAME:UTC
DTSTART:20200101T000000
END:STANDARD
END:VTIMEZONE
BEGIN:VEVENT
DTSTART;TZID=UTC:20210523T140000
DTEND;TZID=UTC:20210523T170000
DTSTAMP:20260425T195505
CREATED:20210522T143257Z
LAST-MODIFIED:20210522T143339Z
UID:9234-1621778400-1621789200@www.wildgoosespace.org.uk
SUMMARY:Nadia Adoniizi
DESCRIPTION:Amoreto Flower design Course \n 
URL:https://www.wildgoosespace.org.uk/event/nadia-adoniizi/
END:VEVENT
BEGIN:VEVENT
DTSTART;TZID=UTC:20210523T180000
DTEND;TZID=UTC:20210523T200000
DTSTAMP:20260425T195505
CREATED:20210509T151515Z
LAST-MODIFIED:20210522T143125Z
UID:9155-1621792800-1621800000@www.wildgoosespace.org.uk
SUMMARY:Sam Bloomfield Hire.
DESCRIPTION:Sam Bloomfield Hire.
URL:https://www.wildgoosespace.org.uk/event/sam-bloomfield-hire/
END:VEVENT
END:VCALENDAR