BEGIN:VCALENDAR
VERSION:2.0
PRODID:-//Wild Goose Space - ECPv6.15.20//NONSGML v1.0//EN
CALSCALE:GREGORIAN
METHOD:PUBLISH
X-WR-CALNAME:Wild Goose Space
X-ORIGINAL-URL:https://www.wildgoosespace.org.uk
X-WR-CALDESC:Events for Wild Goose Space
REFRESH-INTERVAL;VALUE=DURATION:PT1H
X-Robots-Tag:noindex
X-PUBLISHED-TTL:PT1H
BEGIN:VTIMEZONE
TZID:UTC
BEGIN:STANDARD
TZOFFSETFROM:+0000
TZOFFSETTO:+0000
TZNAME:UTC
DTSTART:20200101T000000
END:STANDARD
END:VTIMEZONE
BEGIN:VEVENT
DTSTART;TZID=UTC:20210522T093000
DTEND;TZID=UTC:20210522T130000
DTSTAMP:20260425T182523
CREATED:20210513T114955Z
LAST-MODIFIED:20210515T143840Z
UID:9222-1621675800-1621688400@www.wildgoosespace.org.uk
SUMMARY:Yoga and Reflective Writing Workshop EVENT 10am to 12.30pm
DESCRIPTION:EVENT RUNS FROM 10AM TO 12.30PM \nSaturday  10am-12.30 ..22nd of May  A kundalini Yoga and Reflective writing workshop \nWe will share a practice of presence through movement\, breath\, stillness and words. \nBooking essential\, cost: £17.00 \nPlease contact lucyspragge@hotmail.com for more info
URL:https://www.wildgoosespace.org.uk/event/yoga-and-reflective-writing-workshop/
END:VEVENT
END:VCALENDAR