BEGIN:VCALENDAR
VERSION:2.0
PRODID:-//Wild Goose Space - ECPv6.15.20//NONSGML v1.0//EN
CALSCALE:GREGORIAN
METHOD:PUBLISH
X-WR-CALNAME:Wild Goose Space
X-ORIGINAL-URL:https://www.wildgoosespace.org.uk
X-WR-CALDESC:Events for Wild Goose Space
REFRESH-INTERVAL;VALUE=DURATION:PT1H
X-Robots-Tag:noindex
X-PUBLISHED-TTL:PT1H
BEGIN:VTIMEZONE
TZID:UTC
BEGIN:STANDARD
TZOFFSETFROM:+0000
TZOFFSETTO:+0000
TZNAME:UTC
DTSTART:20200101T000000
END:STANDARD
END:VTIMEZONE
BEGIN:VEVENT
DTSTART;TZID=UTC:20210517T171500
DTEND;TZID=UTC:20210517T180500
DTSTAMP:20260425T182522
CREATED:20210512T121018Z
LAST-MODIFIED:20210512T121018Z
UID:9169-1621271700-1621274700@www.wildgoosespace.org.uk
SUMMARY:Pilates With Paula
DESCRIPTION:Pilates With Paula
URL:https://www.wildgoosespace.org.uk/event/pilates-with-paula-19/
END:VEVENT
BEGIN:VEVENT
DTSTART;TZID=UTC:20210517T181500
DTEND;TZID=UTC:20210517T190500
DTSTAMP:20260425T182522
CREATED:20210512T121135Z
LAST-MODIFIED:20210512T121135Z
UID:9180-1621275300-1621278300@www.wildgoosespace.org.uk
SUMMARY:Pilates With Paula
DESCRIPTION:Pilates With Paula
URL:https://www.wildgoosespace.org.uk/event/pilates-with-paula-20/
END:VEVENT
END:VCALENDAR