BEGIN:VCALENDAR
VERSION:2.0
PRODID:-//Wild Goose Space - ECPv6.15.20//NONSGML v1.0//EN
CALSCALE:GREGORIAN
METHOD:PUBLISH
X-WR-CALNAME:Wild Goose Space
X-ORIGINAL-URL:https://www.wildgoosespace.org.uk
X-WR-CALDESC:Events for Wild Goose Space
REFRESH-INTERVAL;VALUE=DURATION:PT1H
X-Robots-Tag:noindex
X-PUBLISHED-TTL:PT1H
BEGIN:VTIMEZONE
TZID:UTC
BEGIN:STANDARD
TZOFFSETFROM:+0000
TZOFFSETTO:+0000
TZNAME:UTC
DTSTART:20200101T000000
END:STANDARD
END:VTIMEZONE
BEGIN:VEVENT
DTSTART;TZID=UTC:20210505T100000
DTEND;TZID=UTC:20210505T110000
DTSTAMP:20260425T182522
CREATED:20210504T165950Z
LAST-MODIFIED:20210504T170651Z
UID:9049-1620208800-1620212400@www.wildgoosespace.org.uk
SUMMARY:Mothers and Movers Yoga Support Circle.
DESCRIPTION:Wed 4th to 25th May (4 weeks only)\n10-11am\nMothers and Movers Yoga Support Circle (for older babies on the move and up to 2 years old)\n£40 for the whole block\nNo drop in available but shorter block might be possible if Marinella still has space
URL:https://www.wildgoosespace.org.uk/event/mothers-and-moves-yoga-support-circle/
END:VEVENT
END:VCALENDAR