BEGIN:VCALENDAR
VERSION:2.0
PRODID:-//Wild Goose Space - ECPv6.15.20//NONSGML v1.0//EN
CALSCALE:GREGORIAN
METHOD:PUBLISH
X-ORIGINAL-URL:https://www.wildgoosespace.org.uk
X-WR-CALDESC:Events for Wild Goose Space
REFRESH-INTERVAL;VALUE=DURATION:PT1H
X-Robots-Tag:noindex
X-PUBLISHED-TTL:PT1H
BEGIN:VTIMEZONE
TZID:UTC
BEGIN:STANDARD
TZOFFSETFROM:+0000
TZOFFSETTO:+0000
TZNAME:UTC
DTSTART:20200101T000000
END:STANDARD
END:VTIMEZONE
BEGIN:VEVENT
DTSTART;TZID=UTC:20210502T093000
DTEND;TZID=UTC:20210502T163000
DTSTAMP:20260425T154548
CREATED:20190514T152412Z
LAST-MODIFIED:20190514T152412Z
UID:6525-1619947800-1619973000@www.wildgoosespace.org.uk
SUMMARY:Reclaiming your sacred Ground
DESCRIPTION:Anna Grace Jacobs
URL:https://www.wildgoosespace.org.uk/event/reclaiming-sacred-ground-11/
END:VEVENT
END:VCALENDAR