BEGIN:VCALENDAR
VERSION:2.0
PRODID:-//Wild Goose Space - ECPv6.15.20//NONSGML v1.0//EN
CALSCALE:GREGORIAN
METHOD:PUBLISH
X-ORIGINAL-URL:https://www.wildgoosespace.org.uk
X-WR-CALDESC:Events for Wild Goose Space
REFRESH-INTERVAL;VALUE=DURATION:PT1H
X-Robots-Tag:noindex
X-PUBLISHED-TTL:PT1H
BEGIN:VTIMEZONE
TZID:UTC
BEGIN:STANDARD
TZOFFSETFROM:+0000
TZOFFSETTO:+0000
TZNAME:UTC
DTSTART:20200101T000000
END:STANDARD
END:VTIMEZONE
BEGIN:VEVENT
DTSTART;TZID=UTC:20210419T134500
DTEND;TZID=UTC:20210419T144500
DTSTAMP:20260425T154435
CREATED:20210415T142309Z
LAST-MODIFIED:20210415T142309Z
UID:8997-1618839900-1618843500@www.wildgoosespace.org.uk
SUMMARY:CLEANING
DESCRIPTION:Cleaning
URL:https://www.wildgoosespace.org.uk/event/cleaning/
END:VEVENT
BEGIN:VEVENT
DTSTART;TZID=UTC:20210419T150000
DTEND;TZID=UTC:20210419T170000
DTSTAMP:20260425T154435
CREATED:20210413T162235Z
LAST-MODIFIED:20210413T162235Z
UID:8995-1618844400-1618851600@www.wildgoosespace.org.uk
SUMMARY:New Life Ante Natal Group
DESCRIPTION:New life ante natal group \nEmily Winslow\, \n07801 525393
URL:https://www.wildgoosespace.org.uk/event/new-life-ante-natal-group/
END:VEVENT
END:VCALENDAR