BEGIN:VCALENDAR
VERSION:2.0
PRODID:-//Wild Goose Space - ECPv6.15.20//NONSGML v1.0//EN
CALSCALE:GREGORIAN
METHOD:PUBLISH
X-WR-CALNAME:Wild Goose Space
X-ORIGINAL-URL:https://www.wildgoosespace.org.uk
X-WR-CALDESC:Events for Wild Goose Space
REFRESH-INTERVAL;VALUE=DURATION:PT1H
X-Robots-Tag:noindex
X-PUBLISHED-TTL:PT1H
BEGIN:VTIMEZONE
TZID:UTC
BEGIN:STANDARD
TZOFFSETFROM:+0000
TZOFFSETTO:+0000
TZNAME:UTC
DTSTART:20200101T000000
END:STANDARD
END:VTIMEZONE
BEGIN:VEVENT
DTSTART;TZID=UTC:20210218T100000
DTEND;TZID=UTC:20210218T120000
DTSTAMP:20260425T130354
CREATED:20210217T163121Z
LAST-MODIFIED:20210217T163121Z
UID:8916-1613642400-1613649600@www.wildgoosespace.org.uk
SUMMARY:Mum's Support Group with Alice
DESCRIPTION:Mum’a Support group with Alice. \nAlice Hale.
URL:https://www.wildgoosespace.org.uk/event/mums-support-group-with-alice/
END:VEVENT
END:VCALENDAR