BEGIN:VCALENDAR
VERSION:2.0
PRODID:-//Wild Goose Space - ECPv6.15.20//NONSGML v1.0//EN
CALSCALE:GREGORIAN
METHOD:PUBLISH
X-WR-CALNAME:Wild Goose Space
X-ORIGINAL-URL:https://www.wildgoosespace.org.uk
X-WR-CALDESC:Events for Wild Goose Space
REFRESH-INTERVAL;VALUE=DURATION:PT1H
X-Robots-Tag:noindex
X-PUBLISHED-TTL:PT1H
BEGIN:VTIMEZONE
TZID:UTC
BEGIN:STANDARD
TZOFFSETFROM:+0000
TZOFFSETTO:+0000
TZNAME:UTC
DTSTART:20200101T000000
END:STANDARD
END:VTIMEZONE
BEGIN:VEVENT
DTSTART;TZID=UTC:20210217T100000
DTEND;TZID=UTC:20210217T120000
DTSTAMP:20260425T130354
CREATED:20210210T134214Z
LAST-MODIFIED:20210210T134214Z
UID:8875-1613556000-1613563200@www.wildgoosespace.org.uk
SUMMARY:Private Work
DESCRIPTION:Private Work \nP. Watson
URL:https://www.wildgoosespace.org.uk/event/private-work/
END:VEVENT
END:VCALENDAR