BEGIN:VCALENDAR
VERSION:2.0
PRODID:-//Wild Goose Space - ECPv6.15.20//NONSGML v1.0//EN
CALSCALE:GREGORIAN
METHOD:PUBLISH
X-WR-CALNAME:Wild Goose Space
X-ORIGINAL-URL:https://www.wildgoosespace.org.uk
X-WR-CALDESC:Events for Wild Goose Space
REFRESH-INTERVAL;VALUE=DURATION:PT1H
X-Robots-Tag:noindex
X-PUBLISHED-TTL:PT1H
BEGIN:VTIMEZONE
TZID:UTC
BEGIN:STANDARD
TZOFFSETFROM:+0000
TZOFFSETTO:+0000
TZNAME:UTC
DTSTART:20200101T000000
END:STANDARD
END:VTIMEZONE
BEGIN:VEVENT
DTSTART;TZID=UTC:20210107T080000
DTEND;TZID=UTC:20210109T170000
DTSTAMP:20260425T114417
CREATED:20210316T165128Z
LAST-MODIFIED:20210316T165128Z
UID:8952-1610006400-1610211600@www.wildgoosespace.org.uk
SUMMARY:Psychosynthesis Course
DESCRIPTION:9 Weekend course in Psychosynthesis with Peter Crowe \nEmail…..info@petercrowe.co.uk \n\n  \n\nFRIDAY TIMES……….. 6.45pm to 9.45pm \nSATURDAYS…………….. 9.00am to 6.30pm \nSUNDAYS………………… 10am to 3pm
URL:https://www.wildgoosespace.org.uk/event/psychosynthesis-course-4/
END:VEVENT
END:VCALENDAR