BEGIN:VCALENDAR
VERSION:2.0
PRODID:-//Wild Goose Space - ECPv6.15.20//NONSGML v1.0//EN
CALSCALE:GREGORIAN
METHOD:PUBLISH
X-ORIGINAL-URL:https://www.wildgoosespace.org.uk
X-WR-CALDESC:Events for Wild Goose Space
REFRESH-INTERVAL;VALUE=DURATION:PT1H
X-Robots-Tag:noindex
X-PUBLISHED-TTL:PT1H
BEGIN:VTIMEZONE
TZID:UTC
BEGIN:STANDARD
TZOFFSETFROM:+0000
TZOFFSETTO:+0000
TZNAME:UTC
DTSTART:20190101T000000
END:STANDARD
END:VTIMEZONE
BEGIN:VEVENT
DTSTART;TZID=UTC:20201217T190000
DTEND;TZID=UTC:20201217T210000
DTSTAMP:20260425T101616
CREATED:20190923T153044Z
LAST-MODIFIED:20190923T153044Z
UID:7357-1608231600-1608238800@www.wildgoosespace.org.uk
SUMMARY:Positive Birth Group
DESCRIPTION:Positive Birth Group With Tortie.
URL:https://www.wildgoosespace.org.uk/event/positive-birth-group-32/
END:VEVENT
END:VCALENDAR