BEGIN:VCALENDAR
VERSION:2.0
PRODID:-//Wild Goose Space - ECPv6.15.20//NONSGML v1.0//EN
CALSCALE:GREGORIAN
METHOD:PUBLISH
X-ORIGINAL-URL:https://www.wildgoosespace.org.uk
X-WR-CALDESC:Events for Wild Goose Space
REFRESH-INTERVAL;VALUE=DURATION:PT1H
X-Robots-Tag:noindex
X-PUBLISHED-TTL:PT1H
BEGIN:VTIMEZONE
TZID:UTC
BEGIN:STANDARD
TZOFFSETFROM:+0000
TZOFFSETTO:+0000
TZNAME:UTC
DTSTART:20190101T000000
END:STANDARD
END:VTIMEZONE
BEGIN:VEVENT
DTSTART;TZID=UTC:20201208T140000
DTEND;TZID=UTC:20201208T160000
DTSTAMP:20260425T101532
CREATED:20201114T115245Z
LAST-MODIFIED:20201114T115245Z
UID:8802-1607436000-1607443200@www.wildgoosespace.org.uk
SUMMARY:Norma Daykin
DESCRIPTION:Norma Daykin
URL:https://www.wildgoosespace.org.uk/event/norma-daykin-2/
END:VEVENT
END:VCALENDAR