BEGIN:VCALENDAR
VERSION:2.0
PRODID:-//Wild Goose Space - ECPv6.15.20//NONSGML v1.0//EN
CALSCALE:GREGORIAN
METHOD:PUBLISH
X-ORIGINAL-URL:https://www.wildgoosespace.org.uk
X-WR-CALDESC:Events for Wild Goose Space
REFRESH-INTERVAL;VALUE=DURATION:PT1H
X-Robots-Tag:noindex
X-PUBLISHED-TTL:PT1H
BEGIN:VTIMEZONE
TZID:UTC
BEGIN:STANDARD
TZOFFSETFROM:+0000
TZOFFSETTO:+0000
TZNAME:UTC
DTSTART:20190101T000000
END:STANDARD
END:VTIMEZONE
BEGIN:VEVENT
DTSTART;TZID=UTC:20200719T100000
DTEND;TZID=UTC:20200719T170000
DTSTAMP:20260425T030342
CREATED:20191022T153921Z
LAST-MODIFIED:20191022T153921Z
UID:7412-1595152800-1595178000@www.wildgoosespace.org.uk
SUMMARY:Introduction to Doula workshops
DESCRIPTION:Tortie Rye
URL:https://www.wildgoosespace.org.uk/event/introduction-doula-workshops-2/
END:VEVENT
END:VCALENDAR