BEGIN:VCALENDAR
VERSION:2.0
PRODID:-//Wild Goose Space - ECPv6.15.20//NONSGML v1.0//EN
CALSCALE:GREGORIAN
METHOD:PUBLISH
X-ORIGINAL-URL:https://www.wildgoosespace.org.uk
X-WR-CALDESC:Events for Wild Goose Space
REFRESH-INTERVAL;VALUE=DURATION:PT1H
X-Robots-Tag:noindex
X-PUBLISHED-TTL:PT1H
BEGIN:VTIMEZONE
TZID:UTC
BEGIN:STANDARD
TZOFFSETFROM:+0000
TZOFFSETTO:+0000
TZNAME:UTC
DTSTART:20190101T000000
END:STANDARD
END:VTIMEZONE
BEGIN:VEVENT
DTSTART;TZID=UTC:20200422T100000
DTEND;TZID=UTC:20200422T110000
DTSTAMP:20260424T224410
CREATED:20200311T173949Z
LAST-MODIFIED:20200311T173949Z
UID:8250-1587549600-1587553200@www.wildgoosespace.org.uk
SUMMARY:Parent and Baby Yoga
DESCRIPTION:*Parent and Baby Yoga (for baby movers and up to 2 years old)*\n*10-11am*\n£9 per class pre-paid in block of 6-8 classes (term time only)\nThese yoga sessions are aimed for older babies to toddlers\, accompanied by\neither mum or dad. They are informal and fun\, with a real focus on\nimprovising and being “in the moment”\, leaving all our expectations\nbehind…\nEach time there’ll be a yoga nidra/relaxation and some sound work to ground\neveryone; accessible\, nurturing and strengthening yoga for your newly tired\nbody (tired in a different way than early days of parenting); and lovely\nways to connect mindfully with your baby and sharing some yoga fun together.\nNo previous experience of yoga needed.\nIf your child is older than 2\, I am happy to let you try one class to see\nhow it works for you both. Please contact me.\n*Pre-booking essential as spaces are limited*.\nTo book and for more info: www.earthmoonmala.com –\nmarinellabenelli@gmail.com – 07856125677
URL:https://www.wildgoosespace.org.uk/event/parent-baby-yoga-4/
END:VEVENT
BEGIN:VEVENT
DTSTART;TZID=UTC:20200422T111500
DTEND;TZID=UTC:20200422T121500
DTSTAMP:20260424T224410
CREATED:20200311T174235Z
LAST-MODIFIED:20200311T174942Z
UID:8265-1587554100-1587557700@www.wildgoosespace.org.uk
SUMMARY:Mum and Baby Yoga
DESCRIPTION:Mum and Baby Yoga (for babies aged 7-8 weeks and up to crawling/moving)*\n*11.15-12.15*\n£9 per class pre-paid in block of 6-8 classes (term time only)\nAn informal\, nurturing and fun yoga class for all mothers and babies\, aged\n7-8 weeks and up to crawling/moving. Supporting pelvic realignment\, core\nstrength and emotional wellbeing for mamas through simple and gentle\, yet\npowerful\, yoga\, breathing practices\, sound work and relaxation/meditation.\nAnd lots of interactive and fun stretches\, movements and songs with the\nbabies. These sessions are great to build community and support around you\nand your baby/babies in this transitional time of your life and have\ncreated many long-lasting friendliness over the years.\nNo previous experience of yoga needed.\n*Pre-booking essential as spaces are limited*.\n*Should your baby start crawling/moving during the block\, s/he can move\nonto the other class for older babies\, if there is space (or finish the\nblock with the same group)*\nTo book and for more info: www.earthmoonmala.com –\nmarinellabenelli@gmail.com – 07856125677
URL:https://www.wildgoosespace.org.uk/event/mum-baby-yoga-5/
END:VEVENT
BEGIN:VEVENT
DTSTART;TZID=UTC:20200422T130000
DTEND;TZID=UTC:20200422T143000
DTSTAMP:20260424T224410
CREATED:20200311T175316Z
LAST-MODIFIED:20200311T175316Z
UID:8291-1587560400-1587565800@www.wildgoosespace.org.uk
SUMMARY:Nia Practice
DESCRIPTION:Nia Practice with Catherine
URL:https://www.wildgoosespace.org.uk/event/nia-practice-2/
END:VEVENT
BEGIN:VEVENT
DTSTART;TZID=UTC:20200422T174500
DTEND;TZID=UTC:20200422T184500
DTSTAMP:20260424T224410
CREATED:20200311T175622Z
LAST-MODIFIED:20200311T175622Z
UID:8306-1587577500-1587581100@www.wildgoosespace.org.uk
SUMMARY:Tensegrity with Ana
DESCRIPTION:Tensegrity with Ana Sanchez Contact ana.a.sanchez7@gmail.com
URL:https://www.wildgoosespace.org.uk/event/tensegrity-with-ana/
END:VEVENT
BEGIN:VEVENT
DTSTART;TZID=UTC:20200422T190000
DTEND;TZID=UTC:20200422T210000
DTSTAMP:20260424T224410
CREATED:20200311T175852Z
LAST-MODIFIED:20200311T175852Z
UID:8320-1587582000-1587589200@www.wildgoosespace.org.uk
SUMMARY:Longchen Foundation
DESCRIPTION:Meditation with the Longchen Foundation. Contact Toby on Bristol@longchenfoundation.org 7:15 start. The Longchen Foundation is a Buddhist organisation practicing within the Dzogchen lineage of Tibetan Buddhism. Our Wednesday meetings are open to all whether Buddhist or not\, and there is no need to book. These meetings are informal in nature and involve a period of … Continue reading Longchen Foundation \nFind out more »
URL:https://www.wildgoosespace.org.uk/event/longchen-foundation-4/
END:VEVENT
END:VCALENDAR