BEGIN:VCALENDAR
VERSION:2.0
PRODID:-//Wild Goose Space - ECPv6.15.20//NONSGML v1.0//EN
CALSCALE:GREGORIAN
METHOD:PUBLISH
X-ORIGINAL-URL:https://www.wildgoosespace.org.uk
X-WR-CALDESC:Events for Wild Goose Space
REFRESH-INTERVAL;VALUE=DURATION:PT1H
X-Robots-Tag:noindex
X-PUBLISHED-TTL:PT1H
BEGIN:VTIMEZONE
TZID:UTC
BEGIN:STANDARD
TZOFFSETFROM:+0000
TZOFFSETTO:+0000
TZNAME:UTC
DTSTART:20190101T000000
END:STANDARD
END:VTIMEZONE
BEGIN:VEVENT
DTSTART;TZID=UTC:20200421T100000
DTEND;TZID=UTC:20200421T110000
DTSTAMP:20260424T224510
CREATED:20200310T172356Z
LAST-MODIFIED:20200310T172356Z
UID:8141-1587463200-1587466800@www.wildgoosespace.org.uk
SUMMARY:Pilates With Ula
DESCRIPTION:Join Ula for her weekly Pilates Sessions Phone:07733 182538
URL:https://www.wildgoosespace.org.uk/event/pilates-with-ula-16/
END:VEVENT
BEGIN:VEVENT
DTSTART;TZID=UTC:20200421T143000
DTEND;TZID=UTC:20200421T170000
DTSTAMP:20260424T224510
CREATED:20200310T162500Z
LAST-MODIFIED:20200310T162500Z
UID:8119-1587479400-1587488400@www.wildgoosespace.org.uk
SUMMARY:BYOB Choir
DESCRIPTION:BYOB Choir With Julia Turner. \nContact Julia          juliabfturner@gmail.com
URL:https://www.wildgoosespace.org.uk/event/byob-choir-27/
END:VEVENT
BEGIN:VEVENT
DTSTART;TZID=UTC:20200421T200000
DTEND;TZID=UTC:20200421T210000
DTSTAMP:20260424T224510
CREATED:20200310T172517Z
LAST-MODIFIED:20200310T172517Z
UID:8155-1587499200-1587502800@www.wildgoosespace.org.uk
SUMMARY:Pilates with Ula
DESCRIPTION:Join Ula for her weekly Pilates Sessions Phone:07733 182538
URL:https://www.wildgoosespace.org.uk/event/pilates-with-ula-17/
END:VEVENT
END:VCALENDAR