BEGIN:VCALENDAR
VERSION:2.0
PRODID:-//Wild Goose Space - ECPv6.15.20//NONSGML v1.0//EN
CALSCALE:GREGORIAN
METHOD:PUBLISH
X-WR-CALNAME:Wild Goose Space
X-ORIGINAL-URL:https://www.wildgoosespace.org.uk
X-WR-CALDESC:Events for Wild Goose Space
REFRESH-INTERVAL;VALUE=DURATION:PT1H
X-Robots-Tag:noindex
X-PUBLISHED-TTL:PT1H
BEGIN:VTIMEZONE
TZID:UTC
BEGIN:STANDARD
TZOFFSETFROM:+0000
TZOFFSETTO:+0000
TZNAME:UTC
DTSTART:20190101T000000
END:STANDARD
END:VTIMEZONE
BEGIN:VEVENT
DTSTART;TZID=UTC:20200420T103000
DTEND;TZID=UTC:20200420T113000
DTSTAMP:20260424T224300
CREATED:20200302T171357Z
LAST-MODIFIED:20200302T171357Z
UID:8052-1587378600-1587382200@www.wildgoosespace.org.uk
SUMMARY:Dance Mums
DESCRIPTION:NEW LOCATION:\nNorth Bristol @ Wild Goose Space\n228 Mina Rd\, Bristol BS2 9YP\n\nMondays 10:30am-11:15am\n\n\nSvetlana Ovsyannikova (Woodgate) \n\nOvDa Managing Director/Dance teacher/Choreographer/Performer/Dancer\nwww.ovdadance.com\n\n07794 111608
URL:https://www.wildgoosespace.org.uk/event/dance-mums-16/
END:VEVENT
BEGIN:VEVENT
DTSTART;TZID=UTC:20200420T171500
DTEND;TZID=UTC:20200420T191500
DTSTAMP:20260424T224300
CREATED:20200310T172957Z
LAST-MODIFIED:20200310T173143Z
UID:8169-1587402900-1587410100@www.wildgoosespace.org.uk
SUMMARY:Pilates with Paula
DESCRIPTION:Pilates with Paula Whatman. 5.15pm to 6.15pm        and 6.15pm to 7.15pm EVERY MONDAY TERM TIME
URL:https://www.wildgoosespace.org.uk/event/pilates-with-paula-17/
END:VEVENT
BEGIN:VEVENT
DTSTART;TZID=UTC:20200420T193000
DTEND;TZID=UTC:20200420T213000
DTSTAMP:20260424T224300
CREATED:20200301T151820Z
LAST-MODIFIED:20200301T151820Z
UID:8036-1587411000-1587418200@www.wildgoosespace.org.uk
SUMMARY:Georgian Choir
DESCRIPTION:Georgian Choir  with Anthony Johnson. Every Monday evening 7.30pm to 9.30pm during Term time. Contact Anthony 07950 052100 \nFind out more »
URL:https://www.wildgoosespace.org.uk/event/georgian-choir-13/
END:VEVENT
END:VCALENDAR