BEGIN:VCALENDAR
VERSION:2.0
PRODID:-//Wild Goose Space - ECPv6.15.20//NONSGML v1.0//EN
CALSCALE:GREGORIAN
METHOD:PUBLISH
X-ORIGINAL-URL:https://www.wildgoosespace.org.uk
X-WR-CALDESC:Events for Wild Goose Space
REFRESH-INTERVAL;VALUE=DURATION:PT1H
X-Robots-Tag:noindex
X-PUBLISHED-TTL:PT1H
BEGIN:VTIMEZONE
TZID:UTC
BEGIN:STANDARD
TZOFFSETFROM:+0000
TZOFFSETTO:+0000
TZNAME:UTC
DTSTART:20190101T000000
END:STANDARD
END:VTIMEZONE
BEGIN:VEVENT
DTSTART;TZID=UTC:20200406T090000
DTEND;TZID=UTC:20200417T100000
DTSTAMP:20260424T224411
CREATED:20200310T163410Z
LAST-MODIFIED:20200310T163410Z
UID:8139-1586163600-1587117600@www.wildgoosespace.org.uk
SUMMARY:Easter Holidays
DESCRIPTION:Easter Holidays 6.4.20 to 17.4.20
URL:https://www.wildgoosespace.org.uk/event/easter-holidays-2/
END:VEVENT
BEGIN:VEVENT
DTSTART;TZID=UTC:20200407T100000
DTEND;TZID=UTC:20200407T110000
DTSTAMP:20260424T224412
CREATED:20200310T162030Z
LAST-MODIFIED:20200310T162030Z
UID:8115-1586253600-1586257200@www.wildgoosespace.org.uk
SUMMARY:Pilates With Ula
DESCRIPTION:Join Ula for her weekly Pilates Sessions Phone:07733 182538
URL:https://www.wildgoosespace.org.uk/event/pilates-with-ula-14/
END:VEVENT
BEGIN:VEVENT
DTSTART;TZID=UTC:20200407T200000
DTEND;TZID=UTC:20200407T210000
DTSTAMP:20260424T224412
CREATED:20200310T162137Z
LAST-MODIFIED:20200310T162137Z
UID:8117-1586289600-1586293200@www.wildgoosespace.org.uk
SUMMARY:Pilates With Ula
DESCRIPTION:Join Ula for her weekly Pilates Sessions Phone:07733 182538
URL:https://www.wildgoosespace.org.uk/event/pilates-with-ula-15/
END:VEVENT
END:VCALENDAR