BEGIN:VCALENDAR
VERSION:2.0
PRODID:-//Wild Goose Space - ECPv6.15.20//NONSGML v1.0//EN
CALSCALE:GREGORIAN
METHOD:PUBLISH
X-ORIGINAL-URL:https://www.wildgoosespace.org.uk
X-WR-CALDESC:Events for Wild Goose Space
REFRESH-INTERVAL;VALUE=DURATION:PT1H
X-Robots-Tag:noindex
X-PUBLISHED-TTL:PT1H
BEGIN:VTIMEZONE
TZID:UTC
BEGIN:STANDARD
TZOFFSETFROM:+0000
TZOFFSETTO:+0000
TZNAME:UTC
DTSTART:20190101T000000
END:STANDARD
END:VTIMEZONE
BEGIN:VEVENT
DTSTART;TZID=UTC:20200404T090000
DTEND;TZID=UTC:20200404T163000
DTSTAMP:20260424T211554
CREATED:20200223T182348Z
LAST-MODIFIED:20200224T121806Z
UID:8007-1585990800-1586017800@www.wildgoosespace.org.uk
SUMMARY:Doula Worshop
DESCRIPTION:Doula Workshop with Tortie Rye
URL:https://www.wildgoosespace.org.uk/event/doula-worshop/
END:VEVENT
END:VCALENDAR