BEGIN:VCALENDAR
VERSION:2.0
PRODID:-//Wild Goose Space - ECPv6.15.20//NONSGML v1.0//EN
CALSCALE:GREGORIAN
METHOD:PUBLISH
X-ORIGINAL-URL:https://www.wildgoosespace.org.uk
X-WR-CALDESC:Events for Wild Goose Space
REFRESH-INTERVAL;VALUE=DURATION:PT1H
X-Robots-Tag:noindex
X-PUBLISHED-TTL:PT1H
BEGIN:VTIMEZONE
TZID:UTC
BEGIN:STANDARD
TZOFFSETFROM:+0000
TZOFFSETTO:+0000
TZNAME:UTC
DTSTART:20190101T000000
END:STANDARD
END:VTIMEZONE
BEGIN:VEVENT
DTSTART;TZID=UTC:20200329T100000
DTEND;TZID=UTC:20200329T170000
DTSTAMP:20260424T211453
CREATED:20200127T133858Z
LAST-MODIFIED:20200127T133858Z
UID:7859-1585476000-1585501200@www.wildgoosespace.org.uk
SUMMARY:Alistair Edwards
DESCRIPTION:Private Hire
URL:https://www.wildgoosespace.org.uk/event/alistair-edwards-2/
END:VEVENT
BEGIN:VEVENT
DTSTART;TZID=UTC:20200329T180000
DTEND;TZID=UTC:20200329T210000
DTSTAMP:20260424T211453
CREATED:20190902T110341Z
LAST-MODIFIED:20190902T110341Z
UID:7187-1585504800-1585515600@www.wildgoosespace.org.uk
SUMMARY:Exploring Constellations
DESCRIPTION:Exploring Constellations with Deborah Ward
URL:https://www.wildgoosespace.org.uk/event/exploring-constellations/
END:VEVENT
END:VCALENDAR