BEGIN:VCALENDAR
VERSION:2.0
PRODID:-//Wild Goose Space - ECPv6.15.20//NONSGML v1.0//EN
CALSCALE:GREGORIAN
METHOD:PUBLISH
X-ORIGINAL-URL:https://www.wildgoosespace.org.uk
X-WR-CALDESC:Events for Wild Goose Space
REFRESH-INTERVAL;VALUE=DURATION:PT1H
X-Robots-Tag:noindex
X-PUBLISHED-TTL:PT1H
BEGIN:VTIMEZONE
TZID:UTC
BEGIN:STANDARD
TZOFFSETFROM:+0000
TZOFFSETTO:+0000
TZNAME:UTC
DTSTART:20190101T000000
END:STANDARD
END:VTIMEZONE
BEGIN:VEVENT
DTSTART;TZID=UTC:20200308T110000
DTEND;TZID=UTC:20200308T140000
DTSTAMP:20260424T211453
CREATED:20200213T163139Z
LAST-MODIFIED:20200308T105120Z
UID:7988-1583665200-1583676000@www.wildgoosespace.org.uk
SUMMARY:Children's Party
DESCRIPTION:Children’s Party \nMichal \nnahmanmichal@yahoo.co.uk \n 
URL:https://www.wildgoosespace.org.uk/event/childrens-party-22/
END:VEVENT
BEGIN:VEVENT
DTSTART;TZID=UTC:20200308T183000
DTEND;TZID=UTC:20200308T210000
DTSTAMP:20260424T211453
CREATED:20190821T111538Z
LAST-MODIFIED:20190821T111538Z
UID:7130-1583692200-1583701200@www.wildgoosespace.org.uk
SUMMARY:Home Birth Group
DESCRIPTION:Home Birth Group with Tortie Rye.
URL:https://www.wildgoosespace.org.uk/event/home-birth-group-11/
END:VEVENT
END:VCALENDAR