BEGIN:VCALENDAR
VERSION:2.0
PRODID:-//Wild Goose Space - ECPv6.15.20//NONSGML v1.0//EN
CALSCALE:GREGORIAN
METHOD:PUBLISH
X-WR-CALNAME:Wild Goose Space
X-ORIGINAL-URL:https://www.wildgoosespace.org.uk
X-WR-CALDESC:Events for Wild Goose Space
REFRESH-INTERVAL;VALUE=DURATION:PT1H
X-Robots-Tag:noindex
X-PUBLISHED-TTL:PT1H
BEGIN:VTIMEZONE
TZID:UTC
BEGIN:STANDARD
TZOFFSETFROM:+0000
TZOFFSETTO:+0000
TZNAME:UTC
DTSTART:20190101T000000
END:STANDARD
END:VTIMEZONE
BEGIN:VEVENT
DTSTART;TZID=UTC:20200302T114500
DTEND;TZID=UTC:20200302T123000
DTSTAMP:20260424T195414
CREATED:20200302T171745Z
LAST-MODIFIED:20200302T173445Z
UID:8067-1583149500-1583152200@www.wildgoosespace.org.uk
SUMMARY:Creative Toddler and Parent Class
DESCRIPTION:I am piloting this class due to DanceMums many requests as once your babies are older and start moving around\, it is a totally different game at DanceMums. It has been running successfully for 5 months now. \n\nWe will do a dance routine with them eventually\, but before that I will introduce them to dancing shapes\, levels\, directions\, creative movement\, basically all the main dance elements. \nThis class is not only for you\, but for both of you where your toddler is entertained and challenged to work with you and others as a team. \nIt is a preparation to creative movement dance class. It is a class to nurture your child’s creativity and curiosity\, while gently introducing them to dance and movement. \nThis is a great class to strengthen your mama/papa and toddler bond. We will do a lot of contemporary movement\, you need to be open minded\, participate and be ready to get sweaty. This class is shorter and without a hot drink at the end.
URL:https://www.wildgoosespace.org.uk/event/creative-toddler-parent-class/
END:VEVENT
END:VCALENDAR