BEGIN:VCALENDAR
VERSION:2.0
PRODID:-//Wild Goose Space - ECPv6.15.20//NONSGML v1.0//EN
CALSCALE:GREGORIAN
METHOD:PUBLISH
X-ORIGINAL-URL:https://www.wildgoosespace.org.uk
X-WR-CALDESC:Events for Wild Goose Space
REFRESH-INTERVAL;VALUE=DURATION:PT1H
X-Robots-Tag:noindex
X-PUBLISHED-TTL:PT1H
BEGIN:VTIMEZONE
TZID:UTC
BEGIN:STANDARD
TZOFFSETFROM:+0000
TZOFFSETTO:+0000
TZNAME:UTC
DTSTART:20190101T000000
END:STANDARD
END:VTIMEZONE
BEGIN:VEVENT
DTSTART;TZID=UTC:20200224T103000
DTEND;TZID=UTC:20200224T113000
DTSTAMP:20260424T195136
CREATED:20191231T170511Z
LAST-MODIFIED:20191231T170511Z
UID:7595-1582540200-1582543800@www.wildgoosespace.org.uk
SUMMARY:Dance Mums
DESCRIPTION:Dance Mums \n\nNEW LOCATION:\nNorth Bristol @ Wild Goose Space\n228 Mina Rd\, Bristol BS2 9YP\n\nMondays 10:30am-11:15am\n\n\nSvetlana Ovsyannikova (Woodgate) \n\nOvDa Managing Director/Dance teacher/Choreographer/Performer/Dancer\nwww.ovdadance.com\n\n07794 111608
URL:https://www.wildgoosespace.org.uk/event/dance-mums-15/
END:VEVENT
BEGIN:VEVENT
DTSTART;TZID=UTC:20200224T114500
DTEND;TZID=UTC:20200224T123000
DTSTAMP:20260424T195136
CREATED:20200113T175515Z
LAST-MODIFIED:20200113T181007Z
UID:7763-1582544700-1582547400@www.wildgoosespace.org.uk
SUMMARY:Creative Toddler + Parent Combo Dance Classes
DESCRIPTION:I am piloting this class due to DanceMums many requests as once your babies are older and start moving around\, it is a totally different game at DanceMums. It has been running successfully for 5 months now. \n\nWe will do a dance routine with them eventually\, but before that I will introduce them to dancing shapes\, levels\, directions\, creative movement\, basically all the main dance elements. \nThis class is not only for you\, but for both of you where your toddler is entertained and challenged to work with you and others as a team. \nIt is a preparation to creative movement dance class. It is a class to nurture your child’s creativity and curiosity\, while gently introducing them to dance and movement. \nThis is a great class to strengthen your mama/papa and toddler bond. We will do a lot of contemporary movement\, you need to be open minded\, participate and be ready to get sweaty. This class is shorter and without a hot drink at the end.
URL:https://www.wildgoosespace.org.uk/event/creative-todler-parent-combo-dance-classes/
END:VEVENT
BEGIN:VEVENT
DTSTART;TZID=UTC:20200224T133000
DTEND;TZID=UTC:20200224T160000
DTSTAMP:20260424T195136
CREATED:20200213T113135Z
LAST-MODIFIED:20200213T113510Z
UID:7951-1582551000-1582560000@www.wildgoosespace.org.uk
SUMMARY:Tony Baker
DESCRIPTION:Tony Baker \nTBC
URL:https://www.wildgoosespace.org.uk/event/tony-baker/
END:VEVENT
END:VCALENDAR