BEGIN:VCALENDAR
VERSION:2.0
PRODID:-//Wild Goose Space - ECPv6.15.20//NONSGML v1.0//EN
CALSCALE:GREGORIAN
METHOD:PUBLISH
X-WR-CALNAME:Wild Goose Space
X-ORIGINAL-URL:https://www.wildgoosespace.org.uk
X-WR-CALDESC:Events for Wild Goose Space
REFRESH-INTERVAL;VALUE=DURATION:PT1H
X-Robots-Tag:noindex
X-PUBLISHED-TTL:PT1H
BEGIN:VTIMEZONE
TZID:UTC
BEGIN:STANDARD
TZOFFSETFROM:+0000
TZOFFSETTO:+0000
TZNAME:UTC
DTSTART:20190101T000000
END:STANDARD
END:VTIMEZONE
BEGIN:VEVENT
DTSTART;TZID=UTC:20200221T120000
DTEND;TZID=UTC:20200221T170000
DTSTAMP:20260424T182506
CREATED:20200213T112848Z
LAST-MODIFIED:20200213T112848Z
UID:7949-1582286400-1582304400@www.wildgoosespace.org.uk
SUMMARY:Private Hire
DESCRIPTION:TBC \nTony Baker – Interviews.
URL:https://www.wildgoosespace.org.uk/event/private-hire-102/
END:VEVENT
END:VCALENDAR